BEGIN:VCALENDAR
VERSION:2.0
PRODID:-//Gratis-in-Berlin//NONSGML kigkonsult.se iCalcreator 2.14//
METHOD:PUBLISH
X-WR-CALNAME:Gratis-in-Berlin Tip Kalender
X-WR-CALDESC:Erhalte Gratis-in-Berlin Tips in deinem Kalender
BEGIN:VEVENT
UID:20260420T130218UTC-8701HFK0pU@Gratis-in-Berlin
DTSTAMP:20260420T130218Z
DESCRIPTION:PHANTALISA ist eine Einrichtung für Mädchen* und Junge Frauen* von 1
 0 bis 21 Jahre\; gefördert von Bezirksamt Friedrichshain-Kreuzberg\, Abteilun
 g Kinder-und Jugendförderung\, und in Trägerschaft des FRIEDA-Frauenzentrum e.V
 . Dienstags von 15-17 findet die Siebdruck Werkstatt statt. Komm vorbei un
 d gestalte deine eigene Kunst! Alle Angebote sind Kostenfrei Mehr Infos un
 ter: PHANTALISA - Raum für Mädchen und junge FrauenWeb: http://www.phantalisa.d
 e&nbsp\; Telefon: 030 - 426 36 93 E-Mail: kontakt@phantalisa.deAdresse: Ka
 diner Straße 9 10243 Berlin-Friedrichshain Öffnungszeit: Dienstag bis Donner
 stag: 14 Uhr bis 20 Uhr Freitag: 14 Uhr bis 21 Uhr Samstag: 11 Uhr bis 16 
 Uhr In den Ferien: Montag bis Freitag: 12 Uhr bis 18 Uhr\n\nViel Spass wünscht 
 Gratis-in-Berlin\n\nLink zum Tip: \nZu den Gratis-in-Berlin Angeboten: htt
 p://www.gratis-in-berlin.de\n
DTSTART;VALUE=DATE:20190125
DTEND;VALUE=DATE:20190126
SUMMARY:Angebot für Mädchen* und junge Frauen* in Friedrichshain
END:VEVENT
END:VCALENDAR
