BEGIN:VCALENDAR
VERSION:2.0
PRODID:-//Gratis-in-Berlin//NONSGML kigkonsult.se iCalcreator 2.14//
METHOD:PUBLISH
X-WR-CALNAME:Gratis-in-Berlin Tip Kalender
X-WR-CALDESC:Erhalte Gratis-in-Berlin Tips in deinem Kalender
BEGIN:VEVENT
UID:20260420T142000UTC-6183cndsc4@Gratis-in-Berlin
DTSTAMP:20260420T142000Z
DESCRIPTION:Beats bauen\, Songs produzieren oder rappen?In den Sommerferien
  kostenlos an unserem Musik-Makerspace m3!Ferien-Workshops für Kinder und Jugen
 dliche ab 10 Jahrenvom 24.06. ? 01.08.20191. zweitägiger Workshop I:jede Woc
 he Montag und Dienstag2. zweitägiger Workshop II:jede Woche Mittwoch und Don
 nerstagjeweils von 11:00 ? 12:30 UhrAnmeldung erwünscht unterE-Mail: stadtbibli
 othek@charlottenburg-wilmersdorf.deTel.: 030/9029-12217/12205oder schaut e
 infach vorbei!Ferien-Schnupperkurs für Familienvom 29.06. ? 03.08.2019jeden Sam
 stag von 12:00 ? 13:30 UhrOhne Anmeldung!Ort: Heinrich-Schulz-Bibliothek (
 Rathaus Charlottenburg/ U7 Richard-Wagner-Platz)\n\nViel Spass wünscht Gratis-i
 n-Berlin\n\nLink zum Tip: \nZu den Gratis-in-Berlin Angeboten: http://www.
 gratis-in-berlin.de\n
DTSTART;VALUE=DATE:20190612
DTEND;VALUE=DATE:20190613
SUMMARY:Musik-Makerspace Ferienworkshops in der Heinrich-Schulz-Bibliothek
END:VEVENT
END:VCALENDAR
