BEGIN:VCALENDAR
VERSION:2.0
PRODID:-//Gratis-in-Berlin//NONSGML kigkonsult.se iCalcreator 2.14//
METHOD:PUBLISH
X-WR-CALNAME:Gratis-in-Berlin Tip Kalender
X-WR-CALDESC:Erhalte Gratis-in-Berlin Tips in deinem Kalender
BEGIN:VEVENT
UID:20260420T062917UTC-3295rLRVFg@Gratis-in-Berlin
DTSTAMP:20260420T062917Z
DESCRIPTION:PHANTALISA ist eine Einrichtung für Mädchen* und Junge Frauen* von 1
 0 bis 21 Jahre\; gefördert von Bezirksamt Friedrichshain-Kreuzberg. Abteilung
  Kinder-und Jugendförderung. Und in Trägerschaft des FRIEDA-Frauenzentrum e.V.D
 onnerstags von 16 bis 17 Uhr ist Music Time bei PHANTALISA Sei es Singen\,
  Musiktext lernen\, Karaoke\, Rappen. Hier entscheidet Mädchen* und Junge Fr
 auen*\, und wir unterstützen Sie!Alle Angebote sind KostenfreiMehr Infos unter:
 PHANTALISA - Raum für Mädchen und junge FrauenWeb: http://www.phantalisa.deTele
 fon: 030 - 426 36 93E-Mail: kontakt@phantalisa.deÖffnungszeit: Dienstag bis
  Donnerstag: 14 Uhr bis 20 UhrFreitag: 14 Uhr bis 21 UhrSamstag: 11 Uhr bi
 s 16 UhrIn den Ferien: Montag bis Freitag: 12 Uhr bis 18 Uhr\n\nViel Spass
  wünscht Gratis-in-Berlin\n\nLink zum Tip: \nZu den Gratis-in-Berlin Angeboten:
  http://www.gratis-in-berlin.de\n
DTSTART;VALUE=DATE:20190808
DTEND;VALUE=DATE:20190809
SUMMARY: Musikangebot für Mädchen* und junge Frauen* 
END:VEVENT
END:VCALENDAR
