BEGIN:VCALENDAR
VERSION:2.0
PRODID:-//Gratis-in-Berlin//NONSGML kigkonsult.se iCalcreator 2.14//
METHOD:PUBLISH
X-WR-CALNAME:Gratis-in-Berlin Tip Kalender
X-WR-CALDESC:Erhalte Gratis-in-Berlin Tips in deinem Kalender
BEGIN:VEVENT
UID:20260420T160707UTC-479059rdPa@Gratis-in-Berlin
DTSTAMP:20260420T160707Z
DESCRIPTION:PHANTALISA ist eine Einrichtung für Mädchen* und Junge Frauen* von 1
 0 bis 21 Jahre\; gefördert von Bezirksamt Friedrichshain-Kreuzberg. Abteilung
  Kinder-und Jugendförderung. Und in Trägerschaft des FRIEDA-Frauenzentrum e.V.D
 onnerstags ab 17 Uhr können Mädchen* und Junge Frauen* mit uns gemeinsam Spiele
  spielen\, quatschen\, oder einfach nur auf dem Sofa chillen.\nAlle Angebo
 te sind KostenfreiMehr Infos unter:PHANTALISA - Raum für Mädchen und junge Frau
 enWeb: http://www.phantalisa.deTelefon: 030 - 426 36 93E-Mail: kontakt@pha
 ntalisa.deÖffnungszeit: Dienstag bis Donnerstag: 14 Uhr bis 20 UhrFreitag: 
 14 Uhr bis 21 UhrSamstag: 11 Uhr bis 16 UhrIn den Ferien: Montag bis Freit
 ag: 12 Uhr bis 18 Uhr\n\nViel Spass wünscht Gratis-in-Berlin\n\nLink zum Tip: 
 \nZu den Gratis-in-Berlin Angeboten: http://www.gratis-in-berlin.de\n
DTSTART;VALUE=DATE:20190806
DTEND;VALUE=DATE:20190807
SUMMARY:Chill-Out Abend - Angebot für Mädchen* und junge Frauen*        
END:VEVENT
END:VCALENDAR
