BEGIN:VCALENDAR
VERSION:2.0
PRODID:-//Gratis-in-Berlin//NONSGML kigkonsult.se iCalcreator 2.14//
METHOD:PUBLISH
X-WR-CALNAME:Gratis-in-Berlin Tip Kalender
X-WR-CALDESC:Erhalte Gratis-in-Berlin Tips in deinem Kalender
BEGIN:VEVENT
UID:20260420T130256UTC-3235x3lvWu@Gratis-in-Berlin
DTSTAMP:20260420T130256Z
DESCRIPTION:WIr bieten einen kostenloses Schachkurs für Kinder und Jugendlicher 
 - egal ob ein Einsteiger oder Fortgeschritten) mittwochs von 15:30 bis 17:
 30 Uhr an.Hier nochmal eine Liste mit Vorteilen des Schachs1. Gehirnwachst
 um2. Beide Gehirnhälften werden beansprucht3. Höherer IQ4. Alzheimerprävention5. 
 Eine große Portion Kreativität6. Bessere Problemlösefähigkeit7. Bessere Planung un
 d Weitblick8. Gutes Leseverständnis9. Trainiertes Gedächtnis(Quelle:ttps://www
 .focus.de/gesundheit/experten/becic/fit-im-kopf-und-koerper-die-top-ten-ge
 sundheitseffekte-von-fussball-und-schach-so-werden-sie-mit-fussball-und-sc
 hach-zum-multitalent_id_4725629.html)Wer: Tik e.V.Wo: Friedrich-Franz-Stra
 ße 11b12103 BerlinKontakt: info@tik-berlin.deBei Interesse könnt ihr gerne spo
 ntan vorbeikommen.Wir freuen uns auf euch :)\n\nViel Spass wünscht Gratis-in-Be
 rlin\n\nLink zum Tip: \nZu den Gratis-in-Berlin Angeboten: http://www.grat
 is-in-berlin.de\n
DTSTART;VALUE=DATE:20240102
DTEND;VALUE=DATE:20240103
SUMMARY:Kostenloser Schachkurs für Kinder und Jugendliche bei Tik e.V.
END:VEVENT
END:VCALENDAR
