BEGIN:VCALENDAR
VERSION:2.0
PRODID:-//Gratis-in-Berlin//NONSGML kigkonsult.se iCalcreator 2.14//
METHOD:PUBLISH
X-WR-CALNAME:Gratis-in-Berlin Tip Kalender
X-WR-CALDESC:Erhalte Gratis-in-Berlin Tips in deinem Kalender
BEGIN:VEVENT
UID:20260420T130255UTC-6370KnmuBz@Gratis-in-Berlin
DTSTAMP:20260420T130255Z
DESCRIPTION:In unserer Info-Reihe erhalten Sie einmal im Monat Anregungen\,
  Tipps und Hilfe dabei\, wie Sie verschiedene (digitalen) Medien im Famili
 enalltag sinnvoll und sicher einsetzen können ? vom Smartphone über Sicherheitsein
 stellungen an digitalen Geräten bis hin zu digitalem Spielzeug.Stellen Sie u
 ns gerne Fragen. Weitere Themen zur Mediennutzung nehmen wir bei Bedarf in
 s Angebot mit auf.Die Kursleitung erfolgt durch DigitalCoach Kerstin Buten
 hoff. Sie ist als Eltern-Medien-Beraterin und im Internet zuhause.Di. | 14
 .02.2023 | 16.30?18.00 UhrKreativ im Netz: Interessante pädagogische Spiele\
 , Programmier-Anleitungen und Hinweise\, wo man spannende Apps findetDi. |
  14.03.2023 | 16.30?18.00 UhrFake News erkennen &amp\; mit Kindern drüber sprec
 henDi. | 18.04.2023 | 16.30?18.00 UhrTikTok\, YouTube &amp\; Co.: Was bewe
 gt Teenager im Netz?Di. | 09.05.2023 | 16.30?18.00 UhrWie funktionieren ei
 gentlich Roboter? Angucken\, ausprobieren\, bewerten.Gerne können Sie Ihre Ki
 nder mitbringen. Wir lesen ihnen vor oder spielen mit ihnen\, während Sie si
 ch weiterbilden!Die Teilnahme ist entgeltfrei. Die Anmeldung erfolgt über die B
 ibliothek telefonisch unter: 030 54 704 142 oder per Mail.\n\nViel Spass w
 ünscht Gratis-in-Berlin\n\nLink zum Tip: \nZu den Gratis-in-Berlin Angeboten: h
 ttp://www.gratis-in-berlin.de\n
DTSTART;VALUE=DATE:20231212
DTEND;VALUE=DATE:20231213
SUMMARY:?Medien @ Familie? - Medien @ Familie: Themenreihe der VHS in Koope
 ration mit der Mark-Twain-Bibliothek / Mit Kinderbetreuung!
END:VEVENT
END:VCALENDAR
