BEGIN:VCALENDAR
VERSION:2.0
PRODID:-//Gratis-in-Berlin//NONSGML kigkonsult.se iCalcreator 2.14//
METHOD:PUBLISH
X-WR-CALNAME:Gratis-in-Berlin Tip Kalender
X-WR-CALDESC:Erhalte Gratis-in-Berlin Tips in deinem Kalender
BEGIN:VEVENT
UID:20260420T141939UTC-3724oZGjPi@Gratis-in-Berlin
DTSTAMP:20260420T141939Z
DESCRIPTION:Xmas StreetArt Workshops @ Forum Steglitz\, UG | Schloßstraße 1\,
  12163 Berlin | 13.\,14.\,20.\,21. Dezember\, jeweils von 13-19 Uhr | mit 
 dem Künstler Ben Mansour | Die Teilnahme ist kostenlos!  ZU DEN WORKSHOPS Gemei
 nsam mit Berlins bekanntesten 'Bunt-Bleiber' Ben Mansour sind wir noch bis
  zum 21. Dezember 2019 jeden Freitag &amp\; Samstag im Forum Steglitz zu G
 ast\, um mit Euch die wohl bunteste Weihnachtsvorbereitung zu treffen\, di
 e Berlin je gesehen hat!  Die StreetArt Workshops sind kostenlos!  Hier un
 sere Termine: Freitag\, 13.Dezember 2019\, 13-19 Uhr--&gt\; Leinwände malen 
 Samstag\, 14.Dezember 2019\, 13-19 Uhr --&gt\; Leinwände malen  Freitag\, 20
 .Dezember 2019\, 13-19 Uhr --&gt\; 'XMas StreetArt Lebkuchen Village' Sams
 tag\, 21.Dezember 2019\, 13-19 Uhr --&gt\; 'XMas StreetArt Lebkuchen Villa
 ge' Weitere Eindrücke findet Ihr auf&nbsp\; instagram.com/colorupberlin www.ugl
 yduckling.berlin\n\nViel Spass wünscht Gratis-in-Berlin\n\nLink zum Tip: \nZu d
 en Gratis-in-Berlin Angeboten: http://www.gratis-in-berlin.de\n
DTSTART;VALUE=DATE:20191209
DTEND;VALUE=DATE:20191210
SUMMARY:Xmas Workshops im StreetArt Schlitten
END:VEVENT
END:VCALENDAR
