BEGIN:VCALENDAR
VERSION:2.0
PRODID:-//Gratis-in-Berlin//NONSGML kigkonsult.se iCalcreator 2.14//
METHOD:PUBLISH
X-WR-CALNAME:Gratis-in-Berlin Tip Kalender
X-WR-CALDESC:Erhalte Gratis-in-Berlin Tips in deinem Kalender
BEGIN:VEVENT
UID:20260422T120938UTC-4069TAXtCN@Gratis-in-Berlin
DTSTAMP:20260422T120938Z
DESCRIPTION:Lieber Kinder\, liebe Jugendliche\, liebe Eltern\,mit dem neuen
  Jahr beginnt auch die Zeit der Neujahrsvorsätze und wir helfen euch diese u
 mzusetzen. Man will Klassenbester werden oder ein berühmter Gitarrenspieler in 
 einer coolen Band werden...Ihr seid herzlich eingeladen an unseren kostenl
 osen Kursen für Kinder und Jugendliche teilzunehmen. Ihr könnt natürlich eure Freunde m
 itbringen. Jedes neue Gesicht wird mit offenen Armen empfangen und gemeins
 am werden wir die Vorsätze des neuen Jahres auch durchziehen :)Wo: Friedrich
 - Franz-Str.11b\,12103 BerlinAnmeldung/Kontakt unter info@tik-berlin.de od
 er besucht unsere Webseite https://www.tik-berlin.de/...\n\nViel Spass wünscht 
 Gratis-in-Berlin\n\nLink zum Tip: \nZu den Gratis-in-Berlin Angeboten: htt
 p://www.gratis-in-berlin.de\n
DTSTART;VALUE=DATE:20240102
DTEND;VALUE=DATE:20240103
SUMMARY:Neues Jahr\,Neues Glück - Aktuelle Angebote bei Tik
END:VEVENT
END:VCALENDAR
