BEGIN:VCALENDAR
VERSION:2.0
PRODID:-//Gratis-in-Berlin//NONSGML kigkonsult.se iCalcreator 2.14//
METHOD:PUBLISH
X-WR-CALNAME:Gratis-in-Berlin Tip Kalender
X-WR-CALDESC:Erhalte Gratis-in-Berlin Tips in deinem Kalender
BEGIN:VEVENT
UID:20260422T083605UTC-6934ncepKg@Gratis-in-Berlin
DTSTAMP:20260422T083605Z
DESCRIPTION:Lesestunde für Familien mit Kindern im Alter von 0 bis 6 Jahren - ab
  jetzt jeden Mittwoch von 15:00 - 17:00 Uhr im FBZ Altglienicke von offens
 iv 91' e.V. Lesen\, Spiel und Spaß - das alles wartet in jeder Lesestunde a
 uf euch! In jeder Lesestunde von Librileo könnt ihr spannenden Geschichten la
 uschen\, an Mitmach-Aktionen rund ums Vorlesen teilnehmen und euch Lesetip
 ps für das Vorlesen bei euch Zuhause abholen. Die bunten Bilder\, die neuen Wörter
 \, die tollen Geschichten\, das Durchblättern der Bücher ? das alles macht riesig
  Spaß! Mit Spiel und Spaß werdet ihr an das Medium Buch herangeführt und lernt di
 e wunderbare Welt der Bücher kennen. LESESTUNDEN UND BÜCHERBOXEN FÜR DIE GANZE FA
 MILIE Die Lesestunden gehören zu unserem Leseförderprogramm\, das sich vor allem
  an Familien mit geringem Einkommen richtet\, die Anspruch auf das Bildung
 s- und Teilhabepaket haben. Als Mitglieder könnt ihr regelmäßig an unseren Lese
 stunden in eurer Nähe teilnehmen und erhaltet zudem alle 3 Monate altersgere
 chte Bücherboxen mit Buch\, Spiel &amp\; Ratgeber für eure Kinder direkt zu euch nac
 h Hause geschickt. Bei eurer zuständigen Leistungsstelle könnt ihr eine Kostene
 rstattung für die Mitgliedschaft bei Librileo beantragen. Alle Familien aus Alt
 glienicke / Treptow sind herzlich zu unseren Schnupperstunden in das Famil
 ienBegegnungsZentrum Altglienicke (FBZ) des Vereins offensiv 91' e.V. eing
 eladen\, in denen ihr unser Lese-Programm kennenlernen könnt! Hier findet uns
 ere Lesestunde statt: offensiv' 91 e.V. FBZ Altglienicke Köpenicker Str. 42 1
 2524 Berlin &gt\; Jeden Mittwoch von 15:00 - 17:00 Uhr Wir freuen uns auf 
 euch!\n\nViel Spass wünscht Gratis-in-Berlin\n\nLink zum Tip: \nZu den Gratis-i
 n-Berlin Angeboten: http://www.gratis-in-berlin.de\n
DTSTART;VALUE=DATE:20200121
DTEND;VALUE=DATE:20200122
SUMMARY:Librileo Lesestunde im FBZ Altglienicke von offensiv' 91 e.V.
END:VEVENT
END:VCALENDAR
