BEGIN:VCALENDAR
VERSION:2.0
PRODID:-//Gratis-in-Berlin//NONSGML kigkonsult.se iCalcreator 2.14//
METHOD:PUBLISH
X-WR-CALNAME:Gratis-in-Berlin Tip Kalender
X-WR-CALDESC:Erhalte Gratis-in-Berlin Tips in deinem Kalender
BEGIN:VEVENT
UID:20260422T083638UTC-5470PsxHcr@Gratis-in-Berlin
DTSTAMP:20260422T083638Z
DESCRIPTION:Wir bieten ab sofort auch wieder Hausaufgabenhilfen ab der 3.Kl
 asse an: online\, per WhatsApp oder Email\, telefonisch oder per Abgabe de
 r Aufgaben bei Tik. Meldet euch bitte unter info@tik-berlin.de.\n\nViel Sp
 ass wünscht Gratis-in-Berlin\n\nLink zum Tip: \nZu den Gratis-in-Berlin Angebot
 en: http://www.gratis-in-berlin.de\n
DTSTART;VALUE=DATE:20240102
DTEND;VALUE=DATE:20240103
SUMMARY:Ab Sofort Hausaufgabenhilfe über Skype\, Mail\, WhatsApp oder Telefon
END:VEVENT
END:VCALENDAR
