BEGIN:VCALENDAR
VERSION:2.0
PRODID:-//Gratis-in-Berlin//NONSGML kigkonsult.se iCalcreator 2.14//
METHOD:PUBLISH
X-WR-CALNAME:Gratis-in-Berlin Tip Kalender
X-WR-CALDESC:Erhalte Gratis-in-Berlin Tips in deinem Kalender
BEGIN:VEVENT
UID:20260420T173940UTC-7339oPumAC@Gratis-in-Berlin
DTSTAMP:20260420T173940Z
DESCRIPTION:Als Choreographin und Tanzlehrerin habe ich einen YouTube Kanal
  eröffnet mit Schwerpunkt Kindertanz und Kinderlieder für die Grundschule. Wer Koo
 rdinations- und Konzentrationsübungen mit Kinderliedern und Entspannungsmusik f
 ür Kinder sucht\, wird hier vielleicht fündig: https://www.youtube.com/user/tanzbau/
 playlists. Ich bin auf der Suche nach Feedback von Eltern mit Schulkindern
 . Würde mich über ein paar Kommentare in meinem Kanal freuen\, damit ich die Videos 
 auf Eure Bedürfnisse ausrichten kann!!\n\nViel Spass wünscht Gratis-in-Berlin\n\nLin
 k zum Tip: \nZu den Gratis-in-Berlin Angeboten: http://www.gratis-in-berli
 n.de\n
DTSTART;VALUE=DATE:20200714
DTEND;VALUE=DATE:20200715
SUMMARY:Kindertanz für die Grundschule für zu Hause: Mehr Konzentration und Koordinat
 ion
END:VEVENT
END:VCALENDAR
