BEGIN:VCALENDAR
VERSION:2.0
PRODID:-//Gratis-in-Berlin//NONSGML kigkonsult.se iCalcreator 2.14//
METHOD:PUBLISH
X-WR-CALNAME:Gratis-in-Berlin Tip Kalender
X-WR-CALDESC:Erhalte Gratis-in-Berlin Tips in deinem Kalender
BEGIN:VEVENT
UID:20260420T172611UTC-5569uX729j@Gratis-in-Berlin
DTSTAMP:20260420T172611Z
DESCRIPTION:ihr seid herzlich eingeladen an unseren kostenlosen Kursen ab 9
  Jahren teilzunehmen. Ihr könnt natürlich eure Freunde mitbringen. Jedes neue Gesi
 cht wird mit offenen Armen empfangen :)Wo: Friedrich-Franz-Str.11b\,12103 
 BerlinKontakt:info@tik-berlin.de\n\nViel Spass wünscht Gratis-in-Berlin\n\nLink
  zum Tip: \nZu den Gratis-in-Berlin Angeboten: http://www.gratis-in-berlin
 .de\n
DTSTART;VALUE=DATE:20240102
DTEND;VALUE=DATE:20240103
SUMMARY:Kostenlose Angebote von Tik e.V. wieder nach den Sommerferien
END:VEVENT
END:VCALENDAR
