BEGIN:VCALENDAR
VERSION:2.0
PRODID:-//Gratis-in-Berlin//NONSGML kigkonsult.se iCalcreator 2.14//
METHOD:PUBLISH
X-WR-CALNAME:Gratis-in-Berlin Tip Kalender
X-WR-CALDESC:Erhalte Gratis-in-Berlin Tips in deinem Kalender
BEGIN:VEVENT
UID:20260420T172511UTC-3435U7dpFx@Gratis-in-Berlin
DTSTAMP:20260420T172511Z
DESCRIPTION:* Einstieg in das Berufsfeld Kita oder Hort*Du hast Interesse a
 n der Arbeit mit Kindern\, bist über 25 Jahre alt\, nicht erwerbstätig und lebst 
 in Berlin? Dann ist unser Berufsorientierungs-Projekt ?Kinderheld*innen für Spa
 ndau? genau das Richtige für dich.Bei einem ca.10-wöchigen Praktikum in einer Kita
  oder Kindertagespflege in Spandau schnupperst Du in den pädagogischen Arbei
 tsalltag eine*r Erzieher*in hinein. Wir begleiten Dich mit wöchentlichen\, in
 teraktiven Online-Workshops zu praxisrelevanten Themen und informieren Dic
 h über Einstiegs- und Qualifizierungsmöglichkeiten. Mit individueller Beratung unt
 erstützen wir Dich optimal bei Deinem beruflichen Einstieg. Bei einer Teilnahme
 \, die für Dich kostenlos ist\, erhältst Du ein Teilnahmezertifikat\, Praxiserfah
 rung und die Möglichkeit Dich in einem sicheren Rahmen auszuprobieren.Projekt
 daten:- Projektdauer: 3 Monate (Orientierung\, Praktikum\, individuelle Be
 ratung)- ca. 10 Wochen Praktikum\, 4 Tage die Woche á 5 Stunden pro Tag (Tei
 lzeit)- 1 Mal die Woche interaktiver Online-Workshop ca. 3 Stunden- Start:
  14. September 2020Du bist neugierig oder hast noch Fragen?Besuche unseren
  digitalen Infotermin!Jeden Mittwoch um 12 Uhr auf ZOOM: https://us02web.z
 oom.us/j/87600848791oder ruf uns an unter: 0151 65477486Wir freuen uns auf
  dich!Dein wortlaut-Teamwortlaut Sprachwerkstatt UG (haftungsbeschränkt)Sach
 sendamm 9310829 Berlin\n\nViel Spass wünscht Gratis-in-Berlin\n\nLink zum Tip: 
 \nZu den Gratis-in-Berlin Angeboten: http://www.gratis-in-berlin.de\n
DTSTART;VALUE=DATE:20200728
DTEND;VALUE=DATE:20200729
SUMMARY:Kinderheld*innen für Spandau gesucht!!! Dein (Quer-)Einstieg in den Erzi
 eher*innenberuf
END:VEVENT
END:VCALENDAR
