BEGIN:VCALENDAR
VERSION:2.0
PRODID:-//Gratis-in-Berlin//NONSGML kigkonsult.se iCalcreator 2.14//
METHOD:PUBLISH
X-WR-CALNAME:Gratis-in-Berlin Tip Kalender
X-WR-CALDESC:Erhalte Gratis-in-Berlin Tips in deinem Kalender
BEGIN:VEVENT
UID:20260422T102708UTC-0638G4ODOi@Gratis-in-Berlin
DTSTAMP:20260422T102708Z
DESCRIPTION:* Einstieg in das Berufsfeld Kita oder Kindertagespflege*Du has
 t Interesse an der Arbeit mit Kindern\, bist über 25 Jahre alt\, nicht erwerbst
 ätig und lebst in Berlin? Dann ist unser Berufsorientierungs-Projekt ?Bildun
 gsmittler*innen für Marzahn-Hellersdorf? genau das Richtige für dich.Bei einem ca.8-
 wöchigen Praktikum in einer Bildungseinrichtung (Kita\, Schule\, Hort) in Mar
 zahn-Hellersdorf schnupperst Du in den pädagogischen Arbeitsalltag eine*r Er
 zieher*in hinein. Wir begleiten Dich mit wöchentlichen\, interaktiven Online-
 Workshops zu praxisrelevanten Themen und informieren Dich über Einstiegs- und Q
 ualifizierungsmöglichkeiten. Mit individueller Beratung unterstützen wir Dich opti
 mal bei Deinem beruflichen Einstieg. Bei einer Teilnahme\, die für Dich kostenl
 os ist\, erhältst Du ein Teilnahmezertifikat\, Praxiserfahrung und die Möglichk
 eit Dich in einem sicheren Rahmen auszuprobieren.Projektdaten:- Projektdau
 er: 3 Monate (Orientierung\, Praktikum\, individuelle Beratung)- ca. 8 Woc
 hen Praktikum\, 4 Tage die Woche á 5 Stunden pro Tag (Teilzeit)- 1 Mal die W
 oche interaktiver Online-Workshop ca. 3 Stunden- Start: 18. September 2020
 Du bist neugierig oder hast noch Fragen?Besuche unseren digitalen Infoterm
 in!Jeden Mittwoch um 12 Uhr auf ZOOM: https://us02web.zoom.us/j/8760084879
 1oder ruf uns an unter: 0151 65477486Wir freuen uns auf dich!Dein wortlaut
 -Teamwortlaut Sprachwerkstatt UG (haftungsbeschränkt)Sachsendamm 9310829 Ber
 lin\n\nViel Spass wünscht Gratis-in-Berlin\n\nLink zum Tip: \nZu den Gratis-in-
 Berlin Angeboten: http://www.gratis-in-berlin.de\n
DTSTART;VALUE=DATE:20200728
DTEND;VALUE=DATE:20200729
SUMMARY:Bildungsmittler*innen in Marzahn gesucht!!! Dein (Quer-)Einstieg in
  den Erzieher*innenberuf
END:VEVENT
END:VCALENDAR
