BEGIN:VCALENDAR
VERSION:2.0
PRODID:-//Gratis-in-Berlin//NONSGML kigkonsult.se iCalcreator 2.14//
METHOD:PUBLISH
X-WR-CALNAME:Gratis-in-Berlin Tip Kalender
X-WR-CALDESC:Erhalte Gratis-in-Berlin Tips in deinem Kalender
BEGIN:VEVENT
UID:20260420T130257UTC-5067S60LWg@Gratis-in-Berlin
DTSTAMP:20260420T130257Z
DESCRIPTION:An alle Kids\, die es nicht mehr zu Hause aushalten\, haben wir
  eine 2-Stündige Lösung... und zwar unser Jugendcafe jeden Samstag von 12 bis 14 U
 hr hier bei uns in der Friedrich-Franz-Str.Ihr könnt hier chillen\, singen\, 
 Hausaufgaben machen und das schnelle Internet hier genießen bei kostenlosem
  Kuchen\, so lange der Vorrat reicht :) Kommt vorbei\, gerne mit euren Fre
 unden und ihr müsst euch nicht anmelden. Wir freuen uns auf euch!\n\nViel Spass
  wünscht Gratis-in-Berlin\n\nLink zum Tip: \nZu den Gratis-in-Berlin Angeboten:
  http://www.gratis-in-berlin.de\n
DTSTART;VALUE=DATE:20240102
DTEND;VALUE=DATE:20240103
SUMMARY:kostenloses Jugendcafe samstags von 12 bis 14 Uhr
END:VEVENT
END:VCALENDAR
