BEGIN:VCALENDAR
VERSION:2.0
PRODID:-//Gratis-in-Berlin//NONSGML kigkonsult.se iCalcreator 2.14//
METHOD:PUBLISH
X-WR-CALNAME:Gratis-in-Berlin Tip Kalender
X-WR-CALDESC:Erhalte Gratis-in-Berlin Tips in deinem Kalender
BEGIN:VEVENT
UID:20260420T141836UTC-3756tv5vTu@Gratis-in-Berlin
DTSTAMP:20260420T141836Z
DESCRIPTION:- Berufswahl easy &amp\; ganz bequem von zu Hause- Einstieg Ber
 lin Online: Verschiedene Hochschulen\, Unternehmen &amp\; Gap-Year-Anbiete
 r im direkten Kontakt- Text- und Videochats in großer &amp\; kleiner RundeS
 pannende Online-Seminare &amp\; Vorträge im Livestream- Tausche dich mit and
 eren Schülerinnen &amp\; Schülern aus- Kostenlos &amp\; Informativ: Interessencheck 
 mit Aussteller-Matching- Viele freie Ausbildungs- und StudienplätzeBestätigung
  über den Besuch der Veranstaltung für den Unterricht und deine Unterlagen- Wertvoll
 e Infos von Personalern\, Professionals\, Azubis &amp\; Studierenden- Jetz
 t kostenlos anmelden! einstieg.com/berlin-online&nbsp\;- 5. &amp\; 6. Nove
 mber 2020\, Do: 14?18 Uhr | Fr: 12?16 Uhr\n\nViel Spass wünscht Gratis-in-Berli
 n\n\nLink zum Tip: \nZu den Gratis-in-Berlin Angeboten: http://www.gratis-
 in-berlin.de\n
DTSTART;VALUE=DATE:20201105
DTEND;VALUE=DATE:20201106
SUMMARY:Einstieg Berlin Online - Dein Event für Ausbildung\, Studium und Gap Yea
 r
END:VEVENT
END:VCALENDAR
