BEGIN:VCALENDAR
VERSION:2.0
PRODID:-//Gratis-in-Berlin//NONSGML kigkonsult.se iCalcreator 2.14//
METHOD:PUBLISH
X-WR-CALNAME:Gratis-in-Berlin Tip Kalender
X-WR-CALDESC:Erhalte Gratis-in-Berlin Tips in deinem Kalender
BEGIN:VEVENT
UID:20260420T062913UTC-5665rKW7DD@Gratis-in-Berlin
DTSTAMP:20260420T062913Z
DESCRIPTION:SIVAKIDS vergibt 2 Gratis Plätze für den Programmierworkshop für Familien m
 it geringem Einkommen. Mail an kontakt@sivakids.deReguläre Teilnahme möglich:Für uns
 ere Kurse mit Scratch sind keine Vorkenntnisse nötigIhr Kind kann gerne regel
 mäßig an unseren Programmier Kursen teilnehmen: Live\, interaktiv und mit vi
 el neuem Wissen und Spaß.Unsere Trainer sind zertifiziert und geprüft!Der Progra
 mmierworkshop dauert 90 min. und beinhaltet ein eigenes\, abgeschlossenes 
 Spiel- dieses kann sogar anschließend richtig gespielt und nach belieben er
 gänzt werden- WIE COOL IST DAS DENN??Verträge oder Laufzeiten gibt es bei uns 
 nichtSie buchen und zahlen bequem was Sie verbrauchen wollen.Silicon Valle
 y Kids ist vom TÜV-Nord mit dem anspruchsvollen Bildungs-TÜV nach DIN-ISO 29
 990 zertifiziert.Technische Teilnahmevoraussetzungen:- stabile Internetver
 bindung- Laptop oder PCWIE KANN ICH MICH ANMELDEN?1.Seite eingeben:www.siv
 akids.de/buchung2. Namen etc. eingeben und Formular ausfüllen3. Bereich wählen -&
 gt\; MINT 2x45 min.4. Die Bestellbestätigung kommt5. Per Paypal zahlen6. FER
 TIGProgrammieren können ist längst nicht mehr nur etwas für Technik-Nerds.Grundlegen
 de Programmierkenntnisse sind für Kinder sehr wichtig\, immerhin basieren immer
  mehr Bereiche des Lebens auf Software und Algorithmen.Es ist sehr wichtig
 \, das vor allem Kinder so früh wie möglich digital mündig werden.Diese Buchung beinhal
 tet 2x 45 min. für 36? - ( Buchung unter: MINT Gruppenunterricht)Fülle das Anmeldefo
 rmular (https://www.sivakids.de/buchung/) aus und wähle die günstigste Option für Dich
  und zahle bequem per Paypal.Nach der Anmeldung kommt eine automatische Be
 stellbestätigung!Lets GO und wir freuen uns schon auf Euch!sivakids.de\n\nVi
 el Spass wünscht Gratis-in-Berlin\n\nLink zum Tip: \nZu den Gratis-in-Berlin An
 geboten: http://www.gratis-in-berlin.de\n
DTSTART;VALUE=DATE:20201018
DTEND;VALUE=DATE:20201019
SUMMARY:Ferienworkshop: Online Programmieren lernen mit Scratch. Programmie
 re Dein eigenes Spiel- 
END:VEVENT
END:VCALENDAR
