BEGIN:VCALENDAR
VERSION:2.0
PRODID:-//Gratis-in-Berlin//NONSGML kigkonsult.se iCalcreator 2.14//
METHOD:PUBLISH
X-WR-CALNAME:Gratis-in-Berlin Tip Kalender
X-WR-CALDESC:Erhalte Gratis-in-Berlin Tips in deinem Kalender
BEGIN:VEVENT
UID:20260420T113905UTC-6898K4vimU@Gratis-in-Berlin
DTSTAMP:20260420T113905Z
DESCRIPTION:Du bist noch in Elternzeit oder machst eine längere Erziehungspau
 se und möchtest zurück ins Berufsleben?Du fragst dich\, wie du das Familienleben u
 nd den Arbeitsalltag unter einen Hut bekommst?Oder du überlegst dich beruflich 
 ganz neu zu orientieren??Elternstark? unterstützt dich dabei!Nimm am Projekt ?E
 lternstark? teil und? besuche spannende Workshops zu Themen rund um die Ve
 reinbarkeit von Beruf und Familie\, z.B. Zeitmanagement\, familienfreundli
 che Arbeitgeber\, Umgang mit Stress? tausche dich mit anderen Eltern aus u
 nd erkunde auf unseren begleiteten Kiezspaziergängen durch Treptow-Köpenick die
  verschiedenen Familienangebote ?bei dir um die Ecke?? mach ein Praktikum 
 oder Hospitationen in Unternehmen in Treptow-Köpenick ? wir unterstützen dich bei 
 der Suche und Bewerbung und stehen dir beratend jederzeit zur Seite.Das bi
 st:? interessiert am beruflichen Wiedereinstieg? mind. 25 Jahre alt und wo
 hnst in Berlin.? in Elternzeit bzw. nicht erwerbstätig oder arbeitslos und b
 efindest dich in keiner Ausbildung.Die Teilnahme am Projekt ist kostenfrei
  und dauert ca. 4 Monate.Nächster Start: 3. Mai 2021Interesse? Dann melde di
 ch für einen unverbindlichen Info-Termin an! Dort erfährst du alles über deine Teilnah
 me.Digitale Info-Termine ab April 2021: jeden Dienstag ab 10 Uhr (Einladun
 gslink nach Anmeldung per E-Mail - erwachsenenprojekte@wortlaut.de)Anmeldu
 ngen unter 0178 2969 098Weitere Infos findest du auf unserer Projektwebsei
 te: wortlaut.de/elternstarkWir freuen uns auf dich!Viele Grüßedein wortlaut-Tea
 mDas Projekt ?Elternstark ? Zurück in den Beruf? wird gefördert aus Mitteln des Eu
 ropäischen Sozialfonds und der Senatsverwaltung für Integration\, Arbeit und Sozi
 ales im Rahmen der Bezirklichen Bündnisse für Wirtschaft und Arbeit.\n\nViel Spass w
 ünscht Gratis-in-Berlin\n\nLink zum Tip: \nZu den Gratis-in-Berlin Angeboten: h
 ttp://www.gratis-in-berlin.de\n
DTSTART;VALUE=DATE:20210107
DTEND;VALUE=DATE:20210108
SUMMARY:Zurück in den Beruf mit 'Elternstark' in Treptow-Köpenick
END:VEVENT
END:VCALENDAR
