BEGIN:VCALENDAR
VERSION:2.0
PRODID:-//Gratis-in-Berlin//NONSGML kigkonsult.se iCalcreator 2.14//
METHOD:PUBLISH
X-WR-CALNAME:Gratis-in-Berlin Tip Kalender
X-WR-CALDESC:Erhalte Gratis-in-Berlin Tips in deinem Kalender
BEGIN:VEVENT
UID:20260420T173426UTC-8206FeaAEa@Gratis-in-Berlin
DTSTAMP:20260420T173426Z
DESCRIPTION:Du bist noch in Elternzeit oder machst eine längere Erziehungspau
 se und möchtest zurück ins Berufsleben? Du fragst dich\, wie du das Familienleben 
 und Beruf unter einen Hut bekommst? Oder du überlegst dich beruflich ganz neu z
 u orientieren?Die ?Elternclubs? unterstützen dich dabei!Nimm am neuen Projekt ?
 Elternclub - gemeinsam aktiv? teil und? besuche spannende Workshops zu The
 men rund um die Vereinbarkeit von Beruf und Familie\, z.B. Zeitmanagement\
 , familienfreundliche Arbeitgeber\, Umgang mit Stress? tausche dich mit an
 deren Eltern aus deiner Kita und dem Bezirk aus und erkunde auf unseren be
 gleiteten Kiezspaziergängen durch Steglitz-Zehlendorf die verschiedenen Fami
 lienangebote ?bei dir um die Ecke?? erfahre im geschützten Rahmen der Elternclu
 bs von Expert*innen und Berater*innen aus unterschiedlichen Fachbereichen\
 , wo und wie du Unterstützung bekommst und erlebe spannende Einblicke in Lebens
 läufe und Berufe anderer Eltern? denke dich mit uns in verschiedene Berufsfe
 lder hinein und lass dich von uns begleiten auf deinem individuellen WegDa
 s bringst du mit:? Interesse am beruflichen Wiedereinstieg.? Du bist minde
 stens 25 Jahre alt und wohnst in Berlin.? Du bist in Elternzeit oder nicht
  erwerbstätig bzw. befindest dich in keiner Ausbildung.Die Teilnahme am Proj
 ekt ist kostenfrei und dauert ca. 4 Monate.Die erste Runde startet Mitte J
 anuar 2021. Ein flexibler Einstieg ist möglich.Interesse? Dann melde dich für eine
 n unverbindlichen Info-Termin an! Dort erfährst du alles über deine Teilnahme.Dig
 itale Info-Termine (per ZOOM):? Donnerstag\, 10.12.2020\, 10:00 Uhr? Donne
 rstag\, 07.01.2021\, 10:00 Uhr? Donnerstag\, 21.01.2021\, 10:00 UhrWeitere
  Infos findest du auf unserer Webseite: wortlaut.de/elternclubsAnmeldungen
  unter: 0178 2969 098Wir freuen uns über dein Interesse!Herzliche GrüßeDein wortlaut
 -Team\n\nViel Spass wünscht Gratis-in-Berlin\n\nLink zum Tip: \nZu den Gratis-i
 n-Berlin Angeboten: http://www.gratis-in-berlin.de\n
DTSTART;VALUE=DATE:20210107
DTEND;VALUE=DATE:20210108
SUMMARY:Neues Berufsglück im 'Elternclub' in Steglitz-Zehlendorf 
END:VEVENT
END:VCALENDAR
