BEGIN:VCALENDAR
VERSION:2.0
PRODID:-//Gratis-in-Berlin//NONSGML kigkonsult.se iCalcreator 2.14//
METHOD:PUBLISH
X-WR-CALNAME:Gratis-in-Berlin Tip Kalender
X-WR-CALDESC:Erhalte Gratis-in-Berlin Tips in deinem Kalender
BEGIN:VEVENT
UID:20260420T143244UTC-0787KEHiHv@Gratis-in-Berlin
DTSTAMP:20260420T143244Z
DESCRIPTION:Die Arbeit mit Kindern interessiert dich? Dann bist du hier gen
 au richtig.Dieses Projekt ermöglicht es dir deinen Neu-\,Quer- oder Wiederein
 stieg in ein pädagogisches Berufsfeld zu realisieren und zu erleichtern.Wir 
 begleiten und unterstützen dich bei einem neuen Werdegang.Wer kann alles mitmac
 hen?Teilnehmen können alle Personen\, die 25 Jahre alt oder älter sind\, die ni
 cht erwerbstätig bzw. arbeitssuchend sind und in Berlin leben.Die Teilnahme 
 ist kostenlos.Wie läuft das Projekt ab?Wir starten mit 12 interaktiven Works
 hops\, die dich und deine Kompetenzen fördern und voran bringen sollen.Danach
  geht es in die Praxisphase\, die aus einem 10-wöchigen Praktikum in einer Pa
 rtnereinrichtung in Marzahn-Hellersdorf stattfindet. Wir bieten dir außerde
 m eine individuelle Beratung an\, um dich optimal zu begleiten und unterst
 ützen zu können.Projektdaten:- Projektdauer: 3 Monate (Orientierung\, Praktikum\, 
 individuelle Beratung)- ca. 10 Wochen Praktikum\, 4 Tage die Woche á 5 Stund
 en pro Tag (Teilzeit)- 1 Mal die Woche interaktiver Online-Workshop ca. 3 
 Stunden- Start: Februar 2021Du möchtest mehr erfahren? Dann kannst du uns hie
 r erreichen:Ruf uns einfach an!Telefonnummer: 0151 65477486Wir freuen uns 
 auf dich!Dein wortlaut-Team :)\n\nViel Spass wünscht Gratis-in-Berlin\n\nLink z
 um Tip: \nZu den Gratis-in-Berlin Angeboten: http://www.gratis-in-berlin.d
 e\n
DTSTART;VALUE=DATE:20210107
DTEND;VALUE=DATE:20210108
SUMMARY:Bildungsmittler*innen Marzahn/Hellersdorf 
END:VEVENT
END:VCALENDAR
