BEGIN:VCALENDAR
VERSION:2.0
PRODID:-//Gratis-in-Berlin//NONSGML kigkonsult.se iCalcreator 2.14//
METHOD:PUBLISH
X-WR-CALNAME:Gratis-in-Berlin Tip Kalender
X-WR-CALDESC:Erhalte Gratis-in-Berlin Tips in deinem Kalender
BEGIN:VEVENT
UID:20260420T080617UTC-6767AXUnwe@Gratis-in-Berlin
DTSTAMP:20260420T080617Z
DESCRIPTION:Wir haben\, bis Corona dies nicht mehr so ohne weiteres möglich ma
 chte\, Hausaufgabenhilfen hier vor Ort für mehrere Schüler*innen zusammen angeboten.
  Nun ist es der Wunsch der Eltern und die Angst vor einer möglichen Ansteckun
 g\, die Kinder und Jugendlichen einzeln zu unterstützen. Dies ist überwiegend bei Ha
 usaufgaben\, kann aber auch bei anderen Aufgaben sein: Ausbildungsplatz su
 chen\, sich bewerben\, miteinander reden. Den Tag und die Uhrzeit kann man
  mit den jungen Menschen selbst absprechen.Mehr Informationen finden sie u
 nter unserer Webseite https://www.tik-berlin.de/....Bei Interesse melden S
 ie sich bitte unter info@tik-berlin.de .Adresse:TIK e. V.Friedrich-Franz-S
 traße 11b12103 Berlin\n\nViel Spass wünscht Gratis-in-Berlin\n\nLink zum Tip: \n
 Zu den Gratis-in-Berlin Angeboten: http://www.gratis-in-berlin.de\n
DTSTART;VALUE=DATE:20240102
DTEND;VALUE=DATE:20240103
SUMMARY:Einzelbetreuung für Schulaufgaben etc. bei Tik e.V.
END:VEVENT
END:VCALENDAR
