BEGIN:VCALENDAR
VERSION:2.0
PRODID:-//Gratis-in-Berlin//NONSGML kigkonsult.se iCalcreator 2.14//
METHOD:PUBLISH
X-WR-CALNAME:Gratis-in-Berlin Tip Kalender
X-WR-CALDESC:Erhalte Gratis-in-Berlin Tips in deinem Kalender
BEGIN:VEVENT
UID:20260422T101415UTC-4780NhV5JV@Gratis-in-Berlin
DTSTAMP:20260422T101415Z
DESCRIPTION:Wir waren auf einem UNFASSBAR GROßEN Spielplatz\, auch wenn er f
 ür Euch etwas weiter weg ist\, lohnt er sich auf alle Fälle! Diesen gigantischen 
 Spielplatz müßt Ihr Euch unbedingt ansehen. Weil er so riesig ist\, hab ich 2 V
 ideos daraus gemacht. Hier kommt Teil 1 (Teil 2 in einem anderen Video). V
 iel Spaß:&nbsp\;https://youtu.be/QFvYvAwWx3IAnmerkung Redaktion: Spielplatz
  in Berlin-Rudow (Ritterburg / Wasserspielplatz)\n\nViel Spass wünscht Gratis-i
 n-Berlin\n\nLink zum Tip: https://www.gratis-in-berlin.de/kinder-jugendlic
 he/item/2050870-spielplatz-der-superlative\nZu den Gratis-in-Berlin Angebo
 ten: http://www.gratis-in-berlin.de\n
DTSTART;VALUE=DATE:20210311
DTEND;VALUE=DATE:20210312
SUMMARY:Spielplatz der Superlative
END:VEVENT
END:VCALENDAR
