BEGIN:VCALENDAR
VERSION:2.0
PRODID:-//Gratis-in-Berlin//NONSGML kigkonsult.se iCalcreator 2.14//
METHOD:PUBLISH
X-WR-CALNAME:Gratis-in-Berlin Tip Kalender
X-WR-CALDESC:Erhalte Gratis-in-Berlin Tips in deinem Kalender
BEGIN:VEVENT
UID:20260420T130255UTC-6613GVAavo@Gratis-in-Berlin
DTSTAMP:20260420T130255Z
DESCRIPTION:Du magst Spiele und tauchst gerne in neue Welten ein?Gestalte d
 eine eigene Spielwelt und erlebe mit deinen Held:innen spannende Rollenspi
 el Geschichten.Bist du bereit für ein Abenteuer?Möchtest du spannende Rollenspiel 
 Geschichten erleben?Spielst du gerne Held:innen und tauchst in neue Welten
  ein?Standest du vielleicht auch schon mal auf einer Bühne?Dann bist bei 'Spiel
 erisch gegen Vorurteile' genau richtig.Bei 'Spielerisch gegen Vorurteile' 
 benutzen wir Brett- und Kartenspielen\, sowie Rollenspiele\, genannt Pen&a
 mp\;Paper.Hierbei setzen wir uns mit verschiedenen Themen auseinander.Etwa
  mit Toleranz und Vorurteile auf kreative und spielerische Art und Weise.E
 rlebe spannende Rollenspiel Geschichten bei uns!Die Schwarze Katze - Ob al
 s geschickte Dachtänzerin\, wagemutiger Straßenkater oder verwöhnte Schoßkatze\, 
 durchstreife verborgen als Katze vor den Blicken der Menschen die Hafensta
 dt Havena.7te See - Ist ein Mantel und Degen Rollenspiel\, welches in eine
 m Land der Magie und Mysterien spielt. Nachempfunden dem Europa des 17. Ja
 hrhunderts. In der Rolle wagemutiger Held:innen werden die Spieler:innen i
 n Verschwörungen und finstere Machenschaften verstrickt. Erforschen die uralt
 en Ruinen eines lange untergegangenen Volkes und beschützen die rechtmäßigen Herr
 scher Théahs.Shadowrun - Ihr spielt Charaktere in einer dystopischen Zukunft
  voller Magie\, fantastischer Kreaturen und Artefakte. Dort versucht ihr\,
  den großen Coup zu landen und gleichzeitig den allgegenwärtigen Megakonzerne
 n zu entgehen.Beyond the Wall - Euer Dorf scheint der sicherste Ort der We
 lt zu sein. Doch jenseits der Mauer drohen Gefahren: Bösartige Feen verbergen
  sich im Alten Wald\, Banditen lauern auf den Straßen\, schreckliche Monste
 r sind überall. Und manchmal findet das Böse sogar einen Weg in die Herzen der ans
 tändigsten Dorfbewohner:innen. Ihr seid zwar jung und unerfahren\, aber bere
 it das zu schützen\, worauf es ankommt ? Euer Zuhause!Komm mit uns\, hinter die
  Mauer\, der 7ten See\, den engen Gassen von Havena oder einer dystopische
  Welt und erlebe spannende Rollenspiel Geschichten!Was ist Pen&amp\;Paper?
 Pen&amp\;Paper ist eine Mischung aus Brettspiel und improvisierten Erzählspi
 el.Das Abenteuer entsteht dabei im Kopf der Spielenden.Diese schlüpfen in die R
 olle von Held:innen und können durch ihre Entscheidungen den Verlauf des Aben
 teuers mitbestimmen.Das macht nicht nur viel Spaß. Sondern es trainiert auc
 h Teamgeist\, Problemlösen und kreatives Denken.Ihr braucht nur Würfel\, Stift und
  Papier und schon kann die spannende Rollenspiel Geschichte beginnen.Zusat
 zinformationGerade in solch schwierigen Zeiten kann die Gelegenheit\, mit 
 anderen Jugendlichen Zeit zu verbringen und gemeinsam zu spielen eine abwe
 chslungsreiche Alternative für ihre Freizeitgestaltung sein.Bei den Hygienerege
 ln richtet sich das Angebot nach den Vorgaben der Berliner Senatsverwaltun
 g für Bildung\, Jugend und Familie.Die Anmeldung erfolgt über Mail oder Telefon.Kont
 akt: 01791149300E-Mail: berlin@waldritter.de\n\nViel Spass wünscht Gratis-in-Be
 rlin\n\nLink zum Tip: \nZu den Gratis-in-Berlin Angeboten: http://www.grat
 is-in-berlin.de\n
DTSTART;VALUE=DATE:20241205
DTEND;VALUE=DATE:20241206
SUMMARY:KJFE Schabracke - Workshop: Spannende Rollenspiel Geschichten und B
 rettspiele! 
END:VEVENT
END:VCALENDAR
