BEGIN:VCALENDAR
VERSION:2.0
PRODID:-//Gratis-in-Berlin//NONSGML kigkonsult.se iCalcreator 2.14//
METHOD:PUBLISH
X-WR-CALNAME:Gratis-in-Berlin Tip Kalender
X-WR-CALDESC:Erhalte Gratis-in-Berlin Tips in deinem Kalender
BEGIN:VEVENT
UID:20260422T102754UTC-2318txrGtV@Gratis-in-Berlin
DTSTAMP:20260422T102754Z
DESCRIPTION:Gemeinsam mit einer Naturbegleiterin gehen treffen sich Familie
 n in einer kleinen Gruppe im&nbsp\; Botanischen Volkspark Blankenfelde. Hi
 er erfahren Familien in kleinen Spielen und Übungen die erholsame Kraft der
  Natur und lernen nebenbei etwas über Pflanzen und Tiere der Stadtnatur. Wann: 
 11.06.\, 18.06.\, 25.06.\, 02.07. und 09.07.2021\, 15:00 ? 16:30 UhrKosten
 : nur der Eintritt in den Park (1? für Erwachsene\, Kinder unter 14 Jahren kost
 enlos)\, die Veranstaltung selbst ist kostenlos Eine Anmeldung im Nachbars
 chaftszentrum Amtshaus Buchholz ist für die einzelnen Termine erforderlich: inf
 o@amtshaus-buchholz.de&nbsp\;oder&nbsp\;Tel.: 030 4758472\n\nViel Spass wünscht
  Gratis-in-Berlin\n\nLink zum Tip: \nZu den Gratis-in-Berlin Angeboten: ht
 tp://www.gratis-in-berlin.de\n
DTSTART;VALUE=DATE:20210608
DTEND;VALUE=DATE:20210609
SUMMARY:?rauskommen\, runterkommen\, ankommen ...? - Ein Familienangebot
END:VEVENT
END:VCALENDAR
