BEGIN:VCALENDAR
VERSION:2.0
PRODID:-//Gratis-in-Berlin//NONSGML kigkonsult.se iCalcreator 2.14//
METHOD:PUBLISH
X-WR-CALNAME:Gratis-in-Berlin Tip Kalender
X-WR-CALDESC:Erhalte Gratis-in-Berlin Tips in deinem Kalender
BEGIN:VEVENT
UID:20260420T172512UTC-40160kvLIV@Gratis-in-Berlin
DTSTAMP:20260420T172512Z
DESCRIPTION:In die Produktion von Podcasts reinschnuppern und bei Rap-Frees
 tyle-Jams die Hip-Hop-Subkultur entdecken: das können Jugendliche ab 10 Jahre
 n in einer offenen Radio-Werkstatt\, spontan und ganz ohne Vorkenntnisse.I
 m Schlüterhof entsteht eine mobile ?Rap &amp\; Podcast-Radio Speech Corner?\, i
 nitiiert durch den Radiomoderator und Künstler Giò Di Sera. Er bringt Künstler*innen\, 
 Freund*innen und die Street Kultur des Kreuzberger Vereins StreetUniverCit
 y e.V. mit in den Schlüterhof. Die entstehenden Sendungen werden in einer Hörstati
 on im Schlüterhof und im Anschluss auf multicult.fm ausgestrahlt.Der offene Rad
 io-und-Podcast Workshop Street Radio Blaster lädt Jugendliche ein\, das Medi
 um Radio selbst zu entdecken und mitzugestalten: als spontane oder wiederk
 ehrende Besucher*innen können alle ? auch ohne Vorkenntnisse ? in digitale Ra
 dio-Podcast und Post-Produktion\, Moderations- und Interview-Techniken rei
 nschnuppern.Eine von Di Sera gebaute mobile Musikstation im Stil eines Lei
 erkastens und ausgestattet mit neuester Technik wird zum dazugehörigen ?Sprac
 hrohr? der Berliner Straßenvergangenheit sowie aktueller Stories und Sounds
  rund um das Humboldt Forum. Neben der Radio-Werkstatt wollen Di Sera und 
 sein Team hiermit auch Lust machen\, in regelmäßigen Rap-Freestyle-Jams die 
 Hip-Hop-Subkultur zu entdecken.Immer Samstag nachmittags im Wechsel mit Er
 zählt mir was! können Jugendliche ab 10 Jahren Teil der mobilen Radio-Community
  im Schlüterhof werden ? spontane Besucher*innen sind willkommen!Konzept und künstle
 rische Leitung: Giò Di SeraMit: Drob Dynamic (Rap-Workshop)\, P-Ryme M.C (Pod
 cast Workshop)\, Don Rispetto (Radio-Workshop) uvm.Ein Kooperationsprojekt
  mit StreetUniverCity Berlin e.V.\, DISERAMEDIA\, multicult.fmDer in Napol
 i/Italien geborene und seit 1986 in Berlin lebende Multimedia-Künstler Giò Di Sera
  ist fester Bestandteil der Berliner Künstler*innenlandschaft und Pionier im Be
 reich interkultureller Jugendarbeit. Seine zahlreichen internationalen Ein
 zel- und Gruppenausstellungen sowie Performances (u.a. Akademie der Künste Berl
 in\, Galerie Wewerka\, Raab Galerie\, Biennale Venezia und Havanna\, Museo
  della Scienza\, Macro Museum of Modern Art (Rom/Italien)) organisieren Ma
 terialien\, Sprachen und Klänge alchemistisch und harmonisieren Ethik und Äst
 hetik verschiedener Stile und Zeitströmungen. Parallel arbeitet Giò Di Sera seit
  Anfang der 1990er Jahre in verschiedenen Projekten mit Jugendlichen und j
 ungen Erwachsenen und dem Jugendzentrum NaunynRitze zusammen. 2006 co-init
 iierte Giò Di Sera die StreetUniverCity Berlin e.V. (S.U.B.)\, deren Künstlerische
 r Leiter er seit 2007 ist. Die S.U.B. ist freier Träger eines außerschulische
 n Bildungsangebots ? eine Berliner Institution\, die Jugendliche empowert\
 , selbst künstlerisch tätig und aktiv zu werden. Das Programm besteht aus ganz un
 terschiedlichen\, niederschwelligen (internationalen) Kulturangeboten\, ei
 ner Mischung aus Sub- und Hochkultur.Für sein Engagement und sein nachhaltiges 
 Schaffen zur Verbesserung der Welt wurde Giò Di Sera vielfach gewürdigt und ausgez
 eichnet: (Auswahl) 1993 und 1994 Mete-Eksi-Preis für das Jugendprojekt für ?We All A
 re One?\, 2009 Freiherr-vom Stein-Preis der Alfred-Töpfer-Stiftung mit Street
 UniverCity für ?Gesellschaftliche Innovation? und Besuch des Bundespräsidenten Ho
 rst Köhler in der StreetUniverCity\, 2021 Botschafter der Kampagne ?Beteiligu
 ngsmöglichkeiten nicht-deutscher EU-Bürgerinnen und -Bürger in Berlin? in Kooperation m
 it Berliner Landeszentrale für Politische Bildung.Für Kinder ab 10 JahrenEintritt fr
 ei. Ohne Anmeldung. Aufgrund aktuell geltender Hygieneschutzmaßnahmen begre
 nzte Platzkapazität.Jeden Samstag vom 07.08.2021 bis 11.09.2021 12:30 bis 13
 :30 UhrJeden Samstag vom 07.08.2021 bis 11.09.2021 16:00 bis 17:00 Uhr\n\n
 Viel Spass wünscht Gratis-in-Berlin\n\nLink zum Tip: \nZu den Gratis-in-Berlin 
 Angeboten: http://www.gratis-in-berlin.de\n
DTSTART;VALUE=DATE:20210806
DTEND;VALUE=DATE:20210807
SUMMARY:Street Radio Blaster - Mobile Radio Community zum Mitmachen 
END:VEVENT
END:VCALENDAR
