BEGIN:VCALENDAR
VERSION:2.0
PRODID:-//Gratis-in-Berlin//NONSGML kigkonsult.se iCalcreator 2.14//
METHOD:PUBLISH
X-WR-CALNAME:Gratis-in-Berlin Tip Kalender
X-WR-CALDESC:Erhalte Gratis-in-Berlin Tips in deinem Kalender
BEGIN:VEVENT
UID:20260422T120957UTC-1529HMVUea@Gratis-in-Berlin
DTSTAMP:20260422T120957Z
DESCRIPTION:Das Berliner Theaterkollektiv 'Les Bijoux Fous' spielen 'Schnee
 wittchen' im Monbijou Theater!*Es war einmal im Sommer... und das Schneewi
 ttchen aus den legendären Märchenhütten erwachte etwas früher als sonst aus dem Wintersc
 hlaf...*Wir freuen uns\, für die kleinen und großen Stadtzwerge unser Wintererfo
 lgsmärchen *Schneewittchen * mit den Schauspielerinnen des Märchenhütten-Ensembles 
 auf der Sommerbühne des Monbijoutheaters zu präsentieren.PREMIERE am 26.08.2021 u
 m 15:00 Uhr Kosten:&nbsp\; 7? Kinder bis 16 Jahre\, 10? Erwachsene (Ermäßigu
 ngen mit Nachweis)Karten und weitere Spieltermine hier:www.monbijou-theate
 r.deoder an der Kasse.\n\nViel Spass wünscht Gratis-in-Berlin\n\nLink zum Tip: 
 \nZu den Gratis-in-Berlin Angeboten: http://www.gratis-in-berlin.de\n
DTSTART;VALUE=DATE:20210820
DTEND;VALUE=DATE:20210821
SUMMARY:Märchen im Monbijou Theater für Familien im August und September 2021
END:VEVENT
END:VCALENDAR
