BEGIN:VCALENDAR
VERSION:2.0
PRODID:-//Gratis-in-Berlin//NONSGML kigkonsult.se iCalcreator 2.14//
METHOD:PUBLISH
X-WR-CALNAME:Gratis-in-Berlin Tip Kalender
X-WR-CALDESC:Erhalte Gratis-in-Berlin Tips in deinem Kalender
BEGIN:VEVENT
UID:20260420T062921UTC-7999A18MAR@Gratis-in-Berlin
DTSTAMP:20260420T062921Z
DESCRIPTION:Im musicBOOT erfinden wir bei jedem Treffen ein neues Lied\, sp
 ielen mit Rhythmen und lernen nebenbei auch etwas Musiktheorie ? auch für Spiel
  und Quatsch gibt´s einen Platz! Vorhandene Instrumente können mitgebracht wer
 den. Schnuppertermin und Probezeit sind erwünscht und möglich. Wir freuen uns über eure
  Anmeldungen unter: mgh-kreativhaus@fippev.de0178 698 476 1Das Angebot ist
  kostenlos und findet im Rahmen des Projekts ?MGH- gemeinsam &amp\; engagi
 ert mit Kindern &amp\; Jugendlichen? statt.Anmerkung Redaktion: War als je
 den Donnerstag eingetragen\, aber wohl keine Antwort auf Kommentar.\n\nVie
 l Spass wünscht Gratis-in-Berlin\n\nLink zum Tip: \nZu den Gratis-in-Berlin Ang
 eboten: http://www.gratis-in-berlin.de\n
DTSTART;VALUE=DATE:20211014
DTEND;VALUE=DATE:20211015
SUMMARY:?musicBOOT? ? Musikkurs für Kinder ab 7 Jahre
END:VEVENT
END:VCALENDAR
