BEGIN:VCALENDAR
VERSION:2.0
PRODID:-//Gratis-in-Berlin//NONSGML kigkonsult.se iCalcreator 2.14//
METHOD:PUBLISH
X-WR-CALNAME:Gratis-in-Berlin Tip Kalender
X-WR-CALDESC:Erhalte Gratis-in-Berlin Tips in deinem Kalender
BEGIN:VEVENT
UID:20260420T143204UTC-39245vhGPL@Gratis-in-Berlin
DTSTAMP:20260420T143204Z
DESCRIPTION:Experimentieren\, Basteln\, ErlebenWorkshops im HerbstEin Angeb
 ot der Stadtbibliothek Neukölln in Kooperation mit HORIZONTereignis für Kinder und
  Jugendliche im Alter von 7 bis 14 Jahren\nIn der Helene-Nathan-Bibliothek
  können aufgeweckte Kinder und Jugendliche spielerisch und mit allen Sinnen I
 nteressantes aus dem Bereich Naturwissenschaften lernen\, Fragen stellen\,
  basteln\, bauen\, tüfteln\, beobachten und ausprobieren. Das Angebot eignet si
 ch auch für alle\, die noch auf der Suche nach einem tollen Weihnachtsgeschenk 
 sind.An vier Terminen im November findet jeweils von 16:00 bis 17:30 Uhr e
 in Workshop statt.19.11. SchleimHat hier jemand Schleim gesagt? Stelle mit
  uns zusammen essbaren und intelligenten Schleim her!22.11. KristalleZüchte mit
  uns einen schönen Kristall und beobachte das faszinierende Wachstum eines fu
 nkelnden und faszinierenden Geschenkes ? sei es für Dich oder jemand anderen!26
 .11. SeifeStelle Deine eigene Badekugeln oder Seife ohne Mikroplastik her.
 29.11. SchrottbotsEin Elektromotor\, eine Menge Schrott\, Bastelmaterial u
 nd am Wichtigsten: Deine Fantasie! Aus diesen Zutaten entsteht Dein eigene
 r Weihnachtsschrottbot!Die Anzahl der Teilnehmenden ist begrenzt. Eine Anm
 eldung ist erforderlich:Mail: info@stadtbibliothek-neukoelln.deTel.: 90239
 -4313Bitte Datum und Thema sowie Anzahl der teilnehmenden Kinder bzw. Juge
 ndlichen und gegebenenfalls begleitenden Erwachsenen angeben.Erwachsene Be
 gleitpersonen müssen einen 3G-Nachweis erbringen.Die Workshops finden in der He
 lene-Nathan-Bibliothek statt und sind kostenfrei. Die notwendigen Material
 ien werden zur Verfügung gestellt.\n\nViel Spass wünscht Gratis-in-Berlin\n\nLink zu
 m Tip: \nZu den Gratis-in-Berlin Angeboten: http://www.gratis-in-berlin.de
 \n
DTSTART;VALUE=DATE:20211119
DTEND;VALUE=DATE:20211120
SUMMARY:Experimentieren\, Basteln\, Erleben - Workshops im November für Kinder &
  Jugendliche von 7 bis 14 Jahren
END:VEVENT
END:VCALENDAR
