BEGIN:VCALENDAR
VERSION:2.0
PRODID:-//Gratis-in-Berlin//NONSGML kigkonsult.se iCalcreator 2.14//
METHOD:PUBLISH
X-WR-CALNAME:Gratis-in-Berlin Tip Kalender
X-WR-CALDESC:Erhalte Gratis-in-Berlin Tips in deinem Kalender
BEGIN:VEVENT
UID:20260420T143159UTC-8471NJ4fD8@Gratis-in-Berlin
DTSTAMP:20260420T143159Z
DESCRIPTION:Draußen ist es bereits zu kalt für den Spielplatz? Wir hätten da was für euc
 h ...kostenlos und ohne Anmeldung\, jeden Mittwoch und Donnerstag 10-12 Uh
 r (0-5 Jahre) und 13-16 Uhr (0-12 Jahre) im Stadtteilladen am Földerichplatz 
 (Adamstraße 39 Ecke Földerichstraße)Was euch erwartet?- Bewegungs-\, Musik- und
  Rhythmusspiele\, gemeinsame Bastel- und Malangebote u. w.- Raum zum gemütliche
 n Austausch bei Kaffee und Tee- Beratung bei Fragen zur Erziehung\, Konfli
 kten in der Familie\, Anliegen vom Jugendamt\, Jobcenter\, Kita\, Schule u
 nd persönlichen Themen. (Vertrauliche\, kostenfreie Beratung in Deutsch\, Eng
 lisch\, Spanisch\, Portugiesisch und Türkisch möglich ? auf Wunsch anonym) Bei Fra
 gen erreicht Ihr uns unter: 030 337737-0 und unserer Mailadresse die Ihr a
 uf unserer Website findet. \;)\n\nViel Spass wünscht Gratis-in-Berlin\n\nLink z
 um Tip: \nZu den Gratis-in-Berlin Angeboten: http://www.gratis-in-berlin.d
 e\n
DTSTART;VALUE=DATE:20241204
DTEND;VALUE=DATE:20241205
SUMMARY:Das Kiezrad: Spiel und Beratung für Familien im Kiez
END:VEVENT
END:VCALENDAR
