BEGIN:VCALENDAR
VERSION:2.0
PRODID:-//Gratis-in-Berlin//NONSGML kigkonsult.se iCalcreator 2.14//
METHOD:PUBLISH
X-WR-CALNAME:Gratis-in-Berlin Tip Kalender
X-WR-CALDESC:Erhalte Gratis-in-Berlin Tips in deinem Kalender
BEGIN:VEVENT
UID:20260420T130451UTC-2711hCBfug@Gratis-in-Berlin
DTSTAMP:20260420T130451Z
DESCRIPTION:Jeden Dienstag von 16 bis 18 UhrFür Familien mit Kindern bis 8 Jahre
 n.Wir bieten regelmäßig Aktionen an und es gibt Waffeln.Kommt einfach vorbei
 ! Spenden erlaubtUnter Einhaltung der Coronaregeln.\n\nViel Spass wünscht Grati
 s-in-Berlin\n\nLink zum Tip: https://www.gratis-in-berlin.de/kinder-jugend
 liche/item/2053765-das-familiencafe-mit-waffelverkauf\nZu den Gratis-in-Be
 rlin Angeboten: http://www.gratis-in-berlin.de\n
DTSTART;VALUE=DATE:20220104
DTEND;VALUE=DATE:20220105
SUMMARY:Das Familiencafé mit Waffelverkauf
END:VEVENT
END:VCALENDAR
