BEGIN:VCALENDAR
VERSION:2.0
PRODID:-//Gratis-in-Berlin//NONSGML kigkonsult.se iCalcreator 2.14//
METHOD:PUBLISH
X-WR-CALNAME:Gratis-in-Berlin Tip Kalender
X-WR-CALDESC:Erhalte Gratis-in-Berlin Tips in deinem Kalender
BEGIN:VEVENT
UID:20260422T134232UTC-2435v2t2ci@Gratis-in-Berlin
DTSTAMP:20260422T134232Z
DESCRIPTION:Vorlesen vor der Bezirkszentralbibliothek (nur bei schönem Wetter)
 . Alle sind herzlich Willkommen. Ohne Voranmeldung\, einfach vorbeikommen!
 \n\nViel Spass wünscht Gratis-in-Berlin\n\nLink zum Tip: https://www.gratis-in-
 berlin.de/kinder-jugendliche/item/2055309-kamishibai-erzaehltheater\nZu de
 n Gratis-in-Berlin Angeboten: http://www.gratis-in-berlin.de\n
DTSTART;VALUE=DATE:20220524
DTEND;VALUE=DATE:20220525
SUMMARY:Kamishibai - Erzähltheater
END:VEVENT
END:VCALENDAR
