BEGIN:VCALENDAR
VERSION:2.0
PRODID:-//Gratis-in-Berlin//NONSGML kigkonsult.se iCalcreator 2.14//
METHOD:PUBLISH
X-WR-CALNAME:Gratis-in-Berlin Tip Kalender
X-WR-CALDESC:Erhalte Gratis-in-Berlin Tips in deinem Kalender
BEGIN:VEVENT
UID:20260422T121029UTC-1808OfstJH@Gratis-in-Berlin
DTSTAMP:20260422T121029Z
DESCRIPTION:Ganz neu: Der KidsCircle Online-Treff\n\nViel Spass wünscht Gratis-i
 n-Berlin\n\nLink zum Tip: \nZu den Gratis-in-Berlin Angeboten: http://www.
 gratis-in-berlin.de\n
DTSTART;VALUE=DATE:20220805
DTEND;VALUE=DATE:20220806
SUMMARY:Ganz neu: Der KidsCircle Online-Treff - gratis reinschnuppern
END:VEVENT
END:VCALENDAR
