BEGIN:VCALENDAR
VERSION:2.0
PRODID:-//Gratis-in-Berlin//NONSGML kigkonsult.se iCalcreator 2.14//
METHOD:PUBLISH
X-WR-CALNAME:Gratis-in-Berlin Tip Kalender
X-WR-CALDESC:Erhalte Gratis-in-Berlin Tips in deinem Kalender
BEGIN:VEVENT
UID:20260422T083524UTC-01528BPuXF@Gratis-in-Berlin
DTSTAMP:20260422T083524Z
DESCRIPTION:Kostenlose Graffiti-Workshops@ Schulhof Sophie-Scholl-SchuleElßh
 olzstraße 34-37\, 10781 BerlinContent Creation mal anders!Du willst aus der
  Masse herausstechen und deine Kreativität unter Beweis stellen? Dann komme 
 zu unseren Graffiti-Workshops und erschaffe einzigartigen Content für deinen Fe
 ed! - Und ganz nebenbei erlebst Du auch noch eine gute Zeit mit Freunden\,
  Essen\, Trinken\, Basketball\, und und und!Die Termine (immer von 12-16 U
 hr):17.September 202224.September 202201.Oktober 202208.Oktober 202215.Okt
 ober 2022Teilnahme ab 10 Jahren.Anmeldungen unter: www.nachbarschafft.com/
 anmeldung#nachbarschafftEin nachbarschaftsförderndes Projekt auf Initiative v
 on Diamona &amp\; HarnischIn Zusammenarbeit mit Sprühlinge e.V.\n\nViel Spass w
 ünscht Gratis-in-Berlin\n\nLink zum Tip: \nZu den Gratis-in-Berlin Angeboten: h
 ttp://www.gratis-in-berlin.de\n
DTSTART;VALUE=DATE:20240108
DTEND;VALUE=DATE:20240109
SUMMARY:Kostenlose Graffiti-Workshops in Schöneberg
END:VEVENT
END:VCALENDAR
