BEGIN:VCALENDAR
VERSION:2.0
PRODID:-//Gratis-in-Berlin//NONSGML kigkonsult.se iCalcreator 2.14//
METHOD:PUBLISH
X-WR-CALNAME:Gratis-in-Berlin Tip Kalender
X-WR-CALDESC:Erhalte Gratis-in-Berlin Tips in deinem Kalender
BEGIN:VEVENT
UID:20260422T083601UTC-4994rNVuaU@Gratis-in-Berlin
DTSTAMP:20260422T083601Z
DESCRIPTION:Ob Praktikum\, Ausbildung oder Studium - du sitzt mit vielen Fr
 agezeichen vor deiner Bewerbung und kommst nicht weiter? Oder hast noch ga
 r keine Idee\, was überhaupt zu dir passen könnte? Wir helfen dir weiter! Die Coac
 hes der Jugendberufsagentur sind vor Ort\, um dich bei deinen Bewerbungsun
 terlagen und bei Fragen zu Berufen und Perspektiven zu unterstützen. Für Jugendliche
  ab 14 Jahre. Ohne Anmeldung. Eine Zusammenarbeit des Mobilen Berufscoachi
 ngs und Jugendcoachings. Foto: ©stock.adobe.com\n\nViel Spass wünscht Gratis-in-
 Berlin\n\nLink zum Tip: \nZu den Gratis-in-Berlin Angeboten: http://www.gr
 atis-in-berlin.de\n
DTSTART;VALUE=DATE:20221121
DTEND;VALUE=DATE:20221122
SUMMARY:Level Up!  | Bewerbungs- und Berufscoaching für Jugendliche und junge Er
 wachsene
END:VEVENT
END:VCALENDAR
