BEGIN:VCALENDAR
VERSION:2.0
PRODID:-//Gratis-in-Berlin//NONSGML kigkonsult.se iCalcreator 2.14//
METHOD:PUBLISH
X-WR-CALNAME:Gratis-in-Berlin Tip Kalender
X-WR-CALDESC:Erhalte Gratis-in-Berlin Tips in deinem Kalender
BEGIN:VEVENT
UID:20260420T130218UTC-0519JudtIO@Gratis-in-Berlin
DTSTAMP:20260420T130218Z
DESCRIPTION:08.10\, 15.10\, 22.10\, 12.11. 19.11. 26.11. 03.12. 10.12.16.00
  - Ankommen / ??????? 16.30 - 17.30 - YOGA &amp\; BASTELN / ???? &amp\; ??
 ???????17.30 - 19.00 - Gemütlicher Austausch mit Imbiss / ??i???????? ?? ??????
  ????Teilnahme / ??????:kostenlos &amp\; offen für alle??????????? i ??????????
  ???? ????????&nbsp\;Sprache / ????: Deutsch &amp\;russisch / ???????? i ?
 ????????Anmeldung / ??????????: Tatiana Gubar+49 (0)30 453001-15+49 (0)176
  5679 9520tatiana.gubar@dfv-berlin.deDeutscher FamilienVerband\, Landesver
 band Berlin e.V.&nbsp\;\n\nViel Spass wünscht Gratis-in-Berlin\n\nLink zum Tip:
  \nZu den Gratis-in-Berlin Angeboten: http://www.gratis-in-berlin.de\n
DTSTART;VALUE=DATE:20231210
DTEND;VALUE=DATE:20231211
SUMMARY:Yoga für Mamas und Basteln für Kinder / ???? ??? ??? ?? ????????? ??? ?????
END:VEVENT
END:VCALENDAR
