BEGIN:VCALENDAR
VERSION:2.0
PRODID:-//Gratis-in-Berlin//NONSGML kigkonsult.se iCalcreator 2.14//
METHOD:PUBLISH
X-WR-CALNAME:Gratis-in-Berlin Tip Kalender
X-WR-CALDESC:Erhalte Gratis-in-Berlin Tips in deinem Kalender
BEGIN:VEVENT
UID:20260420T173941UTC-34315P0tfj@Gratis-in-Berlin
DTSTAMP:20260420T173941Z
DESCRIPTION:Nähen mit der Nähmaschine geht kinderleicht. Ob Stoffkörbchen\, Kissen
 \, Lesezeichen\, Kuscheltier oder kleines Monster. In unserem MakerMobil-N
 ähkurs lernt Ihr die Nähmaschine zu bedienen und erste spannende Ideen umzuset
 zen. Wer schon Erfahrungen mitbringt\, kann sich auch an schwierigere Proj
 ekte wagen. In den Winterferien am* 30. &amp\; 31.01.23*und danach jeweils
  am Montag 06.02.\, 13.02.\, 20.02.\, 27.02.\, 06.03.\, 13.03. und 20.03.2
 3 immer 15.00 ? 17.00 Uhr und 17:15 ? 19.15 Uhr in der Bibliothek am Luise
 nbad\, Badstr. 39\, 13357 Berlin.Mitmachen ist jederzeit möglich! Pro Termin 
 können 8 Kinder teilnehmen! Eine Anmeldung mit Angabe des Datums und des Zeit
 fensters ist notwendig unter E-Mail: makermobil@stb-mitte.de*Unkosten ents
 tehen nicht! *\n\nViel Spass wünscht Gratis-in-Berlin\n\nLink zum Tip: \nZu den
  Gratis-in-Berlin Angeboten: http://www.gratis-in-berlin.de\n
DTSTART;VALUE=DATE:20230213
DTEND;VALUE=DATE:20230214
SUMMARY:Nähmaschinenkurs für Kinder von 6 bis 12 Jahren im Wedding
END:VEVENT
END:VCALENDAR
