BEGIN:VCALENDAR
VERSION:2.0
PRODID:-//Gratis-in-Berlin//NONSGML kigkonsult.se iCalcreator 2.14//
METHOD:PUBLISH
X-WR-CALNAME:Gratis-in-Berlin Tip Kalender
X-WR-CALDESC:Erhalte Gratis-in-Berlin Tips in deinem Kalender
BEGIN:VEVENT
UID:20260422T132510UTC-9915u6ujGs@Gratis-in-Berlin
DTSTAMP:20260422T132510Z
DESCRIPTION:Miteinander - zeit verbringenGespräche\, Musik\, Kreativität\, Gemütlich
 keit\, Bewegung\, UnterstützungKindgerechte Räumlichkeiten\, die zum Spielen\, Ve
 rweilen und Austauschen einladen. Im Familienzentrum ?Emilie&amp\; Rudolf?
  sind alle Familien mit Kindern von 0-6 Jahren zum entspannten Miteinander
  herzlich willkommen. An sechs Tagen in der Woche finden verschiedenste An
 gebote statt\, wie:naturnahe ForschererfahrungenGebärdenkurse zum ersten lie
 bevollen Verständigenverschiedene Musikangebote für unterschiedlichste Altersgrup
 penBewegungsangebote frühkindliche KreativitätsförderungBeratung zu diversen Themen 
 (Stillen\, Beikost\, Erziehungsthemen)Zudem gibt es bei uns jederzeit die 
 Möglichkeit mit Familien in ähnlichen Situationen unkompliziert ins Gespräch zu k
 ommen.Das aktuelle Angebot/Programm finden Sie auf unserer Homepage!\n\nVi
 el Spass wünscht Gratis-in-Berlin\n\nLink zum Tip: https://www.gratis-in-berlin
 .de/kinder-jugendliche/item/2059522-familienzentrum-emilie-rudolf\nZu den 
 Gratis-in-Berlin Angeboten: http://www.gratis-in-berlin.de\n
DTSTART;VALUE=DATE:20230303
DTEND;VALUE=DATE:20230304
SUMMARY:Familienzentrum Emilie & Rudolf
END:VEVENT
END:VCALENDAR
