BEGIN:VCALENDAR
VERSION:2.0
PRODID:-//Gratis-in-Berlin//NONSGML kigkonsult.se iCalcreator 2.14//
METHOD:PUBLISH
X-WR-CALNAME:Gratis-in-Berlin Tip Kalender
X-WR-CALDESC:Erhalte Gratis-in-Berlin Tips in deinem Kalender
BEGIN:VEVENT
UID:20260420T173936UTC-22225x6hxh@Gratis-in-Berlin
DTSTAMP:20260420T173936Z
DESCRIPTION:Willkommen im Zirkus am Ende der Welten! Stell dir vor: Eines m
 orgens kommt kein Strom mehr aus der Steckdose. Autos fahren nicht mehr\, 
 denn es gibt kein Benzin. Und die Dinge im Laden sind so teuer\, dass du a
 uch einfache Dinge nicht einfach kaufen kannst. Alles wäre ganz anders.Was w
 äre\, wenn...?Und vielleicht ist einer dieser Weltuntergänge sogar möglich. Denn 
 wegen des Klimawandels müssen wir Energie und Ressourcen sparen. Und außerdem we
 rden auch die Folgen des Klimawandels unsere Welten immer mehr verändern. De
 shalb fragen wir jetzt schon: Was wäre\, wenn...? Wie wird es\, wenn die Wel
 t sich verändert? Und wie könnten wir dabei aktiv die Welt etwas besser machen?
 Mach mit! Und als kleine Info wir sind auch während der Ferien für euch da!Im Kli
 mazirkus am Ende der Welten kannst du selbst ausprobieren\, wie die neuen 
 Welten sein können. Mit welchen Dingen aus unserer Zauberkiste kannst du selb
 st Strom herstellen? Können wir mit dem Zirkus-Fahrparcours uns ohne Autos be
 wegen? Kannst du eine einfache Sache kreativ ersetzen?Mit niedrigschwellig
 en Installationen\, Spielen und Zirkusutensilien findest du deine eigenen 
 Antworten ? und vielleicht auch viele neue Fragen. Für Kinder ab 8 Jahren und i
 hre Begleitung. Kostenlos. Bringe gerne nützliche Sachen für unser Tauschregal mit. 
 Komm einfach vorbei und los geht?s in die Zukunft am Ende der Welten!Di\,D
 o\,Fr und jeden 2+4 Sonntag von 15 bis 18 Uhr.  INFO: ! Vom 14.-20. August
  haben wir zu !\n\nViel Spass wünscht Gratis-in-Berlin\n\nLink zum Tip: \nZu de
 n Gratis-in-Berlin Angeboten: http://www.gratis-in-berlin.de\n
DTSTART;VALUE=DATE:20230411
DTEND;VALUE=DATE:20230412
SUMMARY:Klimazirkus: Was wäre wenn ... Dienstag\, Donnerstag und Freitag | je
 den 2.+4. Sonntag | 15-18 Uhr 
END:VEVENT
END:VCALENDAR
