BEGIN:VCALENDAR
VERSION:2.0
PRODID:-//Gratis-in-Berlin//NONSGML kigkonsult.se iCalcreator 2.14//
METHOD:PUBLISH
X-WR-CALNAME:Gratis-in-Berlin Tip Kalender
X-WR-CALDESC:Erhalte Gratis-in-Berlin Tips in deinem Kalender
BEGIN:VEVENT
UID:20260420T113459UTC-7929bjZCUW@Gratis-in-Berlin
DTSTAMP:20260420T113459Z
DESCRIPTION:Der Tod spielt in allen Kulturen eine zentrale Rolle und wird i
 n zahlreichen Geschichten thematisiert. Das Erzählduo Kathleen Rappolt und J
 an Sell bringen vier Geschichten aus Italien\, Indien\, Westafrika und Afg
 hanistan auf die Bühne der Mechanischen Arena im Foyer des Humboldt Forums.Beid
 e verweben Märchen und Geschichten zu einer Reise durch Erwartungen\, Erfahr
 ungen und Erinnerungen an den Tod. Deutsche Gebärdensprache (Jan Sell) und d
 eutsche Lautsprache (Kathleen Rappolt) verbinden sich auf der Bühne zu lebendig
 en Geschichten über den Tod.Kathleen Rappolt studierte in Berlin Kindheitspädagog
 ik (ASH)\, anschließend Master in Theaterpädagogik und Künstlerisches Erzählen. Stor
 ytelling in Art and Education (UdK Berlin). Seit 2012 ist sie freiberuflic
 he Erzählerin\, Theaterpädagogin und Dozentin und hatte zahlreiche Engagements
  an verschiedenen Theatern\, nationalen und internationalen Storytelling F
 estivals sowie Bildungseinrichtungen und in diversen Projekten\, unter and
 erem ErzählZeit. Seit September 2019 ist sie Ensemblemitglied im Theater oN.
  Von 2015 bis 2019 war sie künstlerische Leiterin und Moderatorin der Erzählbühne Berl
 in.Jan Sell wuchs in einem Gehörloseninternat auf. Schon damals erzählte er den
  anderen Kindern im Schlafsaal Gute-Nacht-Geschichten und entwickelte span
 nende Dialoge zu Filmen im Fernsehen\, da es in der DDR keine Untertitel g
 ab. Schon mit 15 Jahren stand er auf der großen Bühne und wirkte seitdem an unte
 rschiedlichen Theaterproduktionen mit.2003 wurde er für die Rolle des Bruno im 
 Theaterstück Martha und 2014 für die Rolle des Gildo in Gott ist taub als bester Dar
 steller ausgezeichnet. Derzeit arbeitet Jan Sell als Darsteller\, Editor u
 nd Operator im Medienbereich des ZfK e.V. und als Geschichtenerzähler.- Eint
 ritt frei- ab 12 Jahre- Sprache: Deutsch\, Deutsche Gebärdensprache- Dauer: 
 60 Minuten- Ort: Mechanische Arena im Foyer- Gehört zu: un_endlich. Leben mit
  dem Tod\n\nViel Spass wünscht Gratis-in-Berlin\n\nLink zum Tip: \nZu den Grati
 s-in-Berlin Angeboten: http://www.gratis-in-berlin.de\n
DTSTART;VALUE=DATE:20231126
DTEND;VALUE=DATE:20231127
SUMMARY:Diese und jene Seite. Geschichten über den Tod
END:VEVENT
END:VCALENDAR
