BEGIN:VCALENDAR
VERSION:2.0
PRODID:-//Gratis-in-Berlin//NONSGML kigkonsult.se iCalcreator 2.14//
METHOD:PUBLISH
X-WR-CALNAME:Gratis-in-Berlin Tip Kalender
X-WR-CALDESC:Erhalte Gratis-in-Berlin Tips in deinem Kalender
BEGIN:VEVENT
UID:20260422T103050UTC-9457CC5KRL@Gratis-in-Berlin
DTSTAMP:20260422T103050Z
DESCRIPTION:Jeden ersten Sonntag im Monat ist Museumssonntag. Von 11 bis 18
  Uhr heißen wir an diesem Tag alle großen und kleinen Museumsbesucher:innen 
 willkommen! Das bedeutet nicht nur freien Eintritt in unsere Dauerausstell
 ung und die Sonderausstellung\; zwischen 14 und 16 Uhr findet auch eine ko
 stenfreie Familien-Führung und ein offener Workshop für Erwachsene und Kinder statt.
  Nach dem Motto ?Museen mit Freude entdecken? können Besucher:innen verschied
 enen Fährten folgen\, Dinge aus einer anderen\, überraschenden Perspektive sehen 
 und die Geschichte Lichtenbergs (neu) erleben. Die eigenen Eindrücke können dann g
 leich im Workshop kreativ umgesetzt werden. Kommt vorbei!Foto: Museum Lich
 tenberg\n\nViel Spass wünscht Gratis-in-Berlin\n\nLink zum Tip: \nZu den Gratis
 -in-Berlin Angeboten: http://www.gratis-in-berlin.de\n
DTSTART;VALUE=DATE:20241201
DTEND;VALUE=DATE:20241202
SUMMARY:Führung & Workshop zum Museumssonntag
END:VEVENT
END:VCALENDAR
