BEGIN:VCALENDAR
VERSION:2.0
PRODID:-//Gratis-in-Berlin//NONSGML kigkonsult.se iCalcreator 2.14//
METHOD:PUBLISH
X-WR-CALNAME:Gratis-in-Berlin Tip Kalender
X-WR-CALDESC:Erhalte Gratis-in-Berlin Tips in deinem Kalender
BEGIN:VEVENT
UID:20260420T130255UTC-8605DxGKh2@Gratis-in-Berlin
DTSTAMP:20260420T130255Z
DESCRIPTION:Ab Montag\, den 19. Juni 2023 wandeln sich die Lesegärten der Sta
 dtbibliothek Berlin-Mitte zu Erzählorten: Fünf Erzähler*innen sind dann über fünf Wochen in f
 ünf Bibliotheken mit ihrem Programm zu Gast. Sie erzählen für alle\, die Geschichten h
 ören und Bibliothek erleben möchten: Umsonst und draußen. Gelauscht werden kann i
 n der Bibliothek am Luisenbad (montags)\, der Hansabibliothek (dienstags)\
 , der Philipp-Schaeffer Bibliothek (mittwochs)\, der Schiller Bibliothek (
 donnerstags) und der Bruno-Lösche-Bibliothek (freitags). Schirin Zareh\, Moha
 mmed Kello\, Kathleen Rappolt\, Soogi Kang und Suse Weisse nehmen Kinder u
 nd Eltern mit auf eine Reise in die Welt der Geschichten. Bei schlechtem W
 etter findet die Veranstaltung in den Räumen der jeweiligen Bibliothek statt
 .In der Hansabibliothek lesen am Dienstag20.06.23 14.30-15.30 Uhr- Schirin
  Zareh27.06.23 14.30-15.30 Uhr - Mohammed Kello04.07.23 14.30-15.30 Uhr- K
 athleen Rappolt11.07.23 14.30-15.30 Uhr- Soogi Kang18.07.23 10.00-11.00 Uh
 r- Suse Weisse\n\nViel Spass wünscht Gratis-in-Berlin\n\nLink zum Tip: \nZu den
  Gratis-in-Berlin Angeboten: http://www.gratis-in-berlin.de\n
DTSTART;VALUE=DATE:20230620
DTEND;VALUE=DATE:20230621
SUMMARY:DraußenLauschen Erzählsommer in Mitte für Kinder und Familien und für alle die g
 ern zuhören 
END:VEVENT
END:VCALENDAR
