BEGIN:VCALENDAR
VERSION:2.0
PRODID:-//Gratis-in-Berlin//NONSGML kigkonsult.se iCalcreator 2.14//
METHOD:PUBLISH
X-WR-CALNAME:Gratis-in-Berlin Tip Kalender
X-WR-CALDESC:Erhalte Gratis-in-Berlin Tips in deinem Kalender
BEGIN:VEVENT
UID:20260420T130640UTC-4869ZUwglM@Gratis-in-Berlin
DTSTAMP:20260420T130640Z
DESCRIPTION:Ab Montag\, den 19. Juni 2023 wandeln sich die Lesegärten der Sta
 dtbibliothek Berlin-Mitte zu Erzählorten: Fünf Erzähler*innen sind dann über fünf Wochen in f
 ünf Bibliotheken mit ihrem Programm zu Gast. Sie erzählen für alle\, die Geschichten h
 ören und Bibliothek erleben möchten: Umsonst und draußen. Gelauscht werden kann i
 n der Bibliothek am Luisenbad (montags)\, der Hansabibliothek (dienstags)\
 , der Philipp-Schaeffer Bibliothek (mittwochs)\, der Schiller Bibliothek (
 donnerstags) und der Bruno-Lösche-Bibliothek (freitags). Schirin Zareh\, Moha
 mmed Kello\, Kathleen Rappolt\, Soogi Kang und Suse Weisse nehmen Kinder u
 nd Eltern mit auf eine Reise in die Welt der Geschichten. Bei schlechtem W
 etter findet die Veranstaltung in den Räumen der jeweiligen Bibliothek statt
 .In der Philipp-Schaeffer-Bibliothek lesen am Mittwoch\, den21.06.23\, 14.
 30-15.30 Uhr - Schirin Zareh28.06.23\, 14.30-15.30 Uhr - Mohammed Kello05.
 07.23\, 14.30-15.30 Uhr - Kathleen Rappolt12.07.23\, 14.30-15.30 Uhr - Soo
 gi Kang19.07.23\, 10.00-11.00 Uhr - Suse Weisse\n\nViel Spass wünscht Gratis-in
 -Berlin\n\nLink zum Tip: \nZu den Gratis-in-Berlin Angeboten: http://www.g
 ratis-in-berlin.de\n
DTSTART;VALUE=DATE:20230621
DTEND;VALUE=DATE:20230622
SUMMARY:DraußenLauschen! Erzählsommer in Mitte für Kinder und Familien und für alle die 
 gern zuhören 
END:VEVENT
END:VCALENDAR
