BEGIN:VCALENDAR
VERSION:2.0
PRODID:-//Gratis-in-Berlin//NONSGML kigkonsult.se iCalcreator 2.14//
METHOD:PUBLISH
X-WR-CALNAME:Gratis-in-Berlin Tip Kalender
X-WR-CALDESC:Erhalte Gratis-in-Berlin Tips in deinem Kalender
BEGIN:VEVENT
UID:20260422T083638UTC-32264JKxxM@Gratis-in-Berlin
DTSTAMP:20260422T083638Z
DESCRIPTION:Wie lernen blinde Kinderl lesen? - Schule ist für alle da!Prof. Dr. 
 Vera Munde\, KHSBAlle Kinder haben das Recht\, in die Schule zu gehen und 
 dort zu lernen. Aber wie kann Schule für alle Kinder aussehen ? wenn sie ganz u
 nterschiedliche Möglichkeiten oder Einschränkungen haben?Wie ist das zum Beispi
 el\, wenn hörende und gehörlose Kinder in einer Klasse sind? Wie können die Kinder 
 dann miteinander sprechen? Oder wenn ein Kind im Rollstuhl sitzt\, wie kan
 n es dann beim Sportunterricht mitmachen? Wenn ein Kind nicht sehen kann -
  wie lernt es dann lesen?In dieser Vorlesung klären wir\, was Kinder in der 
 Schule alles lernen\, und wie alle Kinder zusammen lernen können.\n&nbsp\;\nD
 ie Vorlesung findet an der HTW Berlin in Karlshorst statt\, Hauptgebäude\, H
 örsaal A 238.\n\nViel Spass wünscht Gratis-in-Berlin\n\nLink zum Tip: \nZu den Gra
 tis-in-Berlin Angeboten: http://www.gratis-in-berlin.de\n
DTSTART;VALUE=DATE:20231118
DTEND;VALUE=DATE:20231119
SUMMARY:KinderUni Lichtenberg (KUL): Wie lernen blinde Kinder lesen?
END:VEVENT
END:VCALENDAR
