BEGIN:VCALENDAR
VERSION:2.0
PRODID:-//Gratis-in-Berlin//NONSGML kigkonsult.se iCalcreator 2.14//
METHOD:PUBLISH
X-WR-CALNAME:Gratis-in-Berlin Tip Kalender
X-WR-CALDESC:Erhalte Gratis-in-Berlin Tips in deinem Kalender
BEGIN:VEVENT
UID:20260420T063945UTC-2136TLlP7h@Gratis-in-Berlin
DTSTAMP:20260420T063945Z
DESCRIPTION:Ein Bild lügt mehr als 1000 Worte -  Möglichkeiten und Gefahren der Bil
 dbearbeitungProf. Dr. Carsten Totz\, HTW BerlinBilder gehen direkt in den 
 Kopf\, ins Gehirn. Wir können uns dagegen kaum wehren und was wir sehen\, wir
 kt für uns echt und wahrhaftig. Nicht ohne Grund gibt es Redensarten wie: 'Das 
 glaube ich erst\, wenn ich es gesehen habe?. Mit Worten kann man leicht lügen\,
  so denken wir. Was wir sehen\, ist dagegen die Realität.Aber können wir heute 
 noch den Bildern und Fotos trauen\, die wir sehen? Welche sind real? Ist d
 as\, was sie zeigen\, wahr? Was wurde manipuliert\, also verändert? Und waru
 m? In dieser Vorlesung geht es vor allem um Bilder und Fotos in den sozial
 en Medien\, die per Apps und auf Basis künstlicher Intelligenzen bearbeitet wer
 den. Was können diese Techniken der Bildbearbeitung\, was dürfen sie - und wie fin
 den wir heraus\, was wir glauben können?Die Vorlesung findet in der HTW Berli
 n in Karlshorst statt\, Hauptgebäude\, Hörsaal A 238.\n\nViel Spass wünscht Gratis-i
 n-Berlin\n\nLink zum Tip: \nZu den Gratis-in-Berlin Angeboten: http://www.
 gratis-in-berlin.de\n
DTSTART;VALUE=DATE:20231124
DTEND;VALUE=DATE:20231125
SUMMARY:KinderUni Lichtenberg (KUL): Ein Bild lügt mehr als 1000 Worte
END:VEVENT
END:VCALENDAR
