BEGIN:VCALENDAR
VERSION:2.0
PRODID:-//Gratis-in-Berlin//NONSGML kigkonsult.se iCalcreator 2.14//
METHOD:PUBLISH
X-WR-CALNAME:Gratis-in-Berlin Tip Kalender
X-WR-CALDESC:Erhalte Gratis-in-Berlin Tips in deinem Kalender
BEGIN:VEVENT
UID:20260424T100201UTC-2177kwOaGa@Gratis-in-Berlin
DTSTAMP:20260424T100201Z
DESCRIPTION:Von der Idee zum fertigen Film&nbsp\;&nbsp\;&nbsp\;&nbsp\;&nbsp
 \;&nbsp\;&nbsp\;&nbsp\;&nbsp\;&nbsp\;&nbsp\;&nbsp\;&nbsp\;&nbsp\;&nbsp\;&n
 bsp\;&nbsp\;&nbsp\;&nbsp\;&nbsp\;&nbsp\;&nbsp\;&nbsp\;&nbsp\;&nbsp\;&nbsp\
 ;&nbsp\;&nbsp\;&nbsp\;&nbsp\;&nbsp\;&nbsp\;&nbsp\;&nbsp\;&nbsp\;&nbsp\;&nb
 sp\;&nbsp\;&nbsp\;&nbsp\;&nbsp\;&nbsp\;&nbsp\;&nbsp\;&nbsp\;&nbsp\;&nbsp\;
 &nbsp\;&nbsp\;&nbsp\;&nbsp\;&nbsp\;&nbsp\;&nbsp\;&nbsp\;&nbsp\;&nbsp\;&nbs
 p\;&nbsp\;&nbsp\;&nbsp\;&nbsp\;&nbsp\;&nbsp\;&nbsp\; Wie entsteht ein Anim
 ationsfilm?Prof. Jan Berger\, HTW BerlinIn animierten Filmen können wir die A
 benteuer von fantasievollen Figuren und Wesen miterleben. Dabei arbeiten e
 ine Vielzahl an Trickfilmspezialist:innen mit\, um Ideen in filmische Erle
 bnisse in Bild und Ton zu verwandeln. Wie solche Filme entstehen erfahrt i
 hr in dieser Vorlesung.\n&nbsp\;\nDie Vorlesung findet in der HTW Berlin i
 n Karlshorst statt\, Hauptgebäude\, Hörsaal A 238.\n\nViel Spass wünscht Gratis-in-B
 erlin\n\nLink zum Tip: https://www.gratis-in-berlin.de/kalender/item/20623
 81-kinderuni-lichtenberg-kul\nZu den Gratis-in-Berlin Angeboten: http://ww
 w.gratis-in-berlin.de\n
DTSTART;VALUE=DATE:20231125
DTEND;VALUE=DATE:20231126
SUMMARY:KinderUni Lichtenberg (KUL): 
END:VEVENT
END:VCALENDAR
