BEGIN:VCALENDAR
VERSION:2.0
PRODID:-//Gratis-in-Berlin//NONSGML kigkonsult.se iCalcreator 2.14//
METHOD:PUBLISH
X-WR-CALNAME:Gratis-in-Berlin Tip Kalender
X-WR-CALDESC:Erhalte Gratis-in-Berlin Tips in deinem Kalender
BEGIN:VEVENT
UID:20260420T094630UTC-7533R4rIuc@Gratis-in-Berlin
DTSTAMP:20260420T094630Z
DESCRIPTION:Die JugendBildungsmesse JuBi ist bundesweit die größte Spezial-Mes
 se zum Thema Bildung im Ausland. Austauschorganisationen\, Veranstaltende 
 und Agenturen aus dem gesamten Bundesgebiet informieren auf der JuBi-Tour 
 über alle Facetten von Auslandsaufenthalten und stellen ihre Programme und Stip
 endienangebote vor. Die Beratung zu Themen wie Schüleraustausch\, High School-A
 ufenthalte\, Sprachreisen\, Au-Pair\, Work &amp\; Travel\, Freiwilligendie
 nste sowie Praktika im Ausland erfolgt persönlich an den Ständen der Aussteller
 *innen durch Bildungsexpert*innen und ehemalige Programmteilnehmer*innen.
 \n\nViel Spass wünscht Gratis-in-Berlin\n\nLink zum Tip: \nZu den Gratis-in-Ber
 lin Angeboten: http://www.gratis-in-berlin.de\n
DTSTART;VALUE=DATE:20240316
DTEND;VALUE=DATE:20240317
SUMMARY:JuBi - Die JugendBildungsmesse in Berlin
END:VEVENT
END:VCALENDAR
