BEGIN:VCALENDAR
VERSION:2.0
PRODID:-//Gratis-in-Berlin//NONSGML kigkonsult.se iCalcreator 2.14//
METHOD:PUBLISH
X-WR-CALNAME:Gratis-in-Berlin Tip Kalender
X-WR-CALDESC:Erhalte Gratis-in-Berlin Tips in deinem Kalender
BEGIN:VEVENT
UID:20260422T102717UTC-1891ezKvL2@Gratis-in-Berlin
DTSTAMP:20260422T102717Z
DESCRIPTION:Tanzen für die Kleinen Warum ist Kindertanz wichtig? Tanzen gibt Men
 schen jeden Alters ein besseres Körpergefühl. Die Kombination von Musik\, Spiel un
 d Tanz lässt die Kreativität\, das Körperbewusstsein und die Inspiration eines Ki
 ndes steigern.Viele Gruppen in der Woche - verschiedene Altersklassenvon M
 ontag bis FreitagKOSTENLOSE PROBESTUNDE möglich. Bitte vorab die Tanzschule k
 ontatieren.über die Webseite www.werk36.deTanzschule weRK36Ella-Barowsky-Str. 7
 0 / Sachsendamm 9310829 Berlin - Schöneberg www.werk36.deAnfahrt: S-Schöneberg\,
  S-Südkreuz\n\nViel Spass wünscht Gratis-in-Berlin\n\nLink zum Tip: \nZu den Gratis-
 in-Berlin Angeboten: http://www.gratis-in-berlin.de\n
DTSTART;VALUE=DATE:20230824
DTEND;VALUE=DATE:20230825
SUMMARY:Kostenlose Probestunde Kindertanz & Teentanz
END:VEVENT
END:VCALENDAR
