BEGIN:VCALENDAR
VERSION:2.0
PRODID:-//Gratis-in-Berlin//NONSGML kigkonsult.se iCalcreator 2.14//
METHOD:PUBLISH
X-WR-CALNAME:Gratis-in-Berlin Tip Kalender
X-WR-CALDESC:Erhalte Gratis-in-Berlin Tips in deinem Kalender
BEGIN:VEVENT
UID:20260422T083650UTC-0112IZ6uZW@Gratis-in-Berlin
DTSTAMP:20260422T083650Z
DESCRIPTION:Für alle Mineraft-Fans\, Bastler*innen und Spielebegeisterten zwisch
 en 8-14 Jahre! Alle zwei Wochen treffen wir uns für kreative Aktionen zur Minec
 raft Welt z.B. Fackeln basteln\, Minecraft-Kuchen backen\, Papercrafts u.v
 .m. Ihr habt etwas\, dass ihr schon immer ausprobieren wolltet? Gerne könnt i
 hr eure Ideen für Workshops vorschlagen! Die Teilnahme ist kostenlos. Hier die 
 nächsten Termine: 13.09. - Minecraft Schwerter aus Karton bauen 27.09. 11.10
 . 8.11. 22.11. 6.12. Immer von 15.30-18.30 Uhr im Jugendclub Villa Pelikan
  Kommt vorbei!\n\nViel Spass wünscht Gratis-in-Berlin\n\nLink zum Tip: \nZu den
  Gratis-in-Berlin Angeboten: http://www.gratis-in-berlin.de\n
DTSTART;VALUE=DATE:20231206
DTEND;VALUE=DATE:20231207
SUMMARY:Minecraft in Echt! ? Kreativ-Nachmittage (bis 6.12.23)
END:VEVENT
END:VCALENDAR
