BEGIN:VCALENDAR
VERSION:2.0
PRODID:-//Gratis-in-Berlin//NONSGML kigkonsult.se iCalcreator 2.14//
METHOD:PUBLISH
X-WR-CALNAME:Gratis-in-Berlin Tip Kalender
X-WR-CALDESC:Erhalte Gratis-in-Berlin Tips in deinem Kalender
BEGIN:VEVENT
UID:20260420T143245UTC-8092ZfoLI9@Gratis-in-Berlin
DTSTAMP:20260420T143245Z
DESCRIPTION:Liebe Menschen\,im Oktober starten wir im JuKuZ (Jugend- und Ku
 lturzentrum in Alt-Treptow) ein Theater- und Kunstprojekt mit jungen Mensc
 hen im Alter von 15 bis 25 Jahren. Wir wollen uns mit einer festen Gruppe 
 alle 2 Wochen Dienstags nachmittags treffen und gemeinsam über Queersein\, Iden
 tität\, Unterdrückung und Selbststärkung mit Methoden aus dem Theater arbeiten. Gem
 einsam wollen wir die Stadt erkunden\, queere Orte und deren Geschichte ke
 nnenlernen. Im Fokus steht die Frage\, was es bedeutet Queer zu sein und w
 as es für einen Raum und Ort braucht\, um uns künstlerisch mit dem Thema zu beschäftig
 en. Wir wollen aus unseren alltäglichen Erfahrungen Kunst machen und uns mit
  diesen Themen beschäftigen\, über die es schwer sein kann zu reden. Ein weiterer
  Fokus liegt auf Orten in Berlin\, an denen queeres Leben stattfindet und 
 gemeinsam zu lernen\, wo dieser Begriff eigentlich herkommt und welche Rol
 le das in der Stadt spielt. Wir fragen uns: Was es bedeutet es als queere 
 Person sichtbar zu werden und was bedeutet es sicher zu sein. Alle Persone
 n die sich für diese Themen interessieren sind eingeladen mitzumachen ? egal ob
  du dich als queer\, hetero\, homo\, asexuall\, bi oder pansexuell identif
 izierst\, oder ob du dich nicht festlegen möchtest. Das Projekt läuft bis zum S
 ommer 2024. Geplant ist auch für 2024 ein Wochenende in Brandenburg. In dem Pro
 jekt stehen eure Interessen zu dem Thema im Mittelpunkt und wir wollen mit
  euch gemeinsam einen Raum schaffen\, in dem wir aufeinander achten können. O
 b am Ende ein Theaterstück oder eine kleine Performance entsteht\, entscheiden 
 wir gemeinsam als Gruppe. Erfahrungen im Theater spielen brauchst du nicht
 . Wer sind wir? Das Projekt wird von Flo (sie/keins)\, Bose (sie/ihr) und 
 Fanny (keins) durchgeführt. Wir machen Theater\, Tanz und singen gerne. Wir arb
 eiten in der politischen Bildungsarbeit und machen verschiedene Projekte i
 m Bereich Anti-Diskriminierungsarbeit. Wir sind eine queere Initiative von
  Menschen mit und ohne Migrationserfahrung. Manche von uns sind selbst aus
  dem Globalen Süden migriert und eine Person ist von Hamburg nach Berlin mit ei
 nigen Umwegen gekommen. Zwei von uns sind weiß und eine PoC. Manche von uns
  haben Erfahrung mit chronischen Krankheiten und andere werden nicht behin
 dert. Manche von uns haben Erfahrung von Armut gemacht. Manche von uns ide
 ntifizieren sich als Genderfluid und andere als Nicht-Binär. Manche von uns 
 nutzen für sich manchmal den Begriff Lesbe\, andere den Begriff Pan oder einfac
 h Queer.Möchtest du mehr vom Projekt erfahren? Schreib uns gerne! Wir kommen 
 gerne im September zu deiner Schule\, Initiative oder Gruppe und präsentiere
 n das Projekt vor. Wichtige Infos:Wann: Ab Oktober\, jeden zwei Wochen am 
 Dienstag Nachmittag. Das erste Kennenlernen-Treffen findet bereits im Sept
 ember statt am 19.09. um 17 Uhr.Wo: JuKuZ - Karl-Kunger-Straße 29/30\, 1243
 5 BerlinAnmeldungen: an kunst.queer.kiez@gmail.comDas Angebot findet auf D
 eutsch mit der Möglichkeit einer Übersetzung auf Englisch und Spanisch. Hinwei
 s zu den Räumlichkeiten: Die Räume sind barrierenfrei zugänglich. Wir arbeiten b
 edarfsorientiert. Wenn du mehr über die Rahmen erfahren möchtest\, sind wir gerne 
 per Mail erreichbar.Redaktion: war alle 14 Tage Dienstag eingestellt\, kei
 ne Reaktion auf Kommentar.\n\nViel Spass wünscht Gratis-in-Berlin\n\nLink zum T
 ip: \nZu den Gratis-in-Berlin Angeboten: http://www.gratis-in-berlin.de\n
DTSTART;VALUE=DATE:20230919
DTEND;VALUE=DATE:20230920
SUMMARY:Kunst\, Queer\, Kiez - Theaterprojekt im JuKuZ (für Menschen zwischen 15
  bis 25 Jahren)
END:VEVENT
END:VCALENDAR
