BEGIN:VCALENDAR
VERSION:2.0
PRODID:-//Gratis-in-Berlin//NONSGML kigkonsult.se iCalcreator 2.14//
METHOD:PUBLISH
X-WR-CALNAME:Gratis-in-Berlin Tip Kalender
X-WR-CALDESC:Erhalte Gratis-in-Berlin Tips in deinem Kalender
BEGIN:VEVENT
UID:20260424T082603UTC-5777TRAgP9@Gratis-in-Berlin
DTSTAMP:20260424T082603Z
DESCRIPTION:Hey Leute\, in Berlin gibt es eine kostenfreie telefonische Ber
 atung rund um berlinPass-BuT für Kinder und das Bildungs- und Teilhabepaket (ku
 rz BuT). Telefon: 030 577 130 040Sprachen: Arabisch\, Deutsch\, Englisch\,
  Russisch\, TürkischUm Rückruf bitten: https://but-beratung.de/Das BuT ist für Kinder ab 
 der Geburt da!! Also auch für Babys\, Kita-Kinder und Schulkinder!Falls ihr ein
 e Sozialleistung bekommt (z.B. Bürgergeld\, Kinderzuschlag oder Wohngeld)\, können
  eure Kinder zusätzlich das BuT nutzen: Für Kostenübernahme bei Klassenfahrten und sch
 ulischer Nachhilfe\, und für Zuschässe bei Mitgliedsbeiträgen und Freizeitangeboten
 . Wie viel Geld drin ist (pro Kind und Jahr) kann der BuT-Rechner berechne
 n (ungefähr):https://but-beratung.de/but-rechner/Anmerkung Redaktion: war wa
 rum auch immer als jeden Sonntag eingestellt.\n\nViel Spass wünscht Gratis-in-B
 erlin\n\nLink zum Tip: \nZu den Gratis-in-Berlin Angeboten: http://www.gra
 tis-in-berlin.de\n
DTSTART;VALUE=DATE:20230924
DTEND;VALUE=DATE:20230925
SUMMARY:Kostenfreie Beratung berlinPass-BuT für Kinder
END:VEVENT
END:VCALENDAR
